BEGIN:VCALENDAR
VERSION:2.0
PRODID:-//ChamberMaster//Event Calendar 2.0//EN
METHOD:PUBLISH
X-PUBLISHED-TTL:P3D
REFRESH-INTERVAL:P3D
CALSCALE:GREGORIAN
BEGIN:VEVENT
DTSTART:20110514T150000Z
DTEND:20110514T200000Z
X-MICROSOFT-CDO-ALLDAYEVENT:FALSE
SUMMARY:Shred-A-Thon
DESCRIPTION:The RBHS PTSA will host a Shred-A-Thon Fundraiser! This event will help raise funds to support the many programs that the PTSA sponsors.\n\n	Documents will be shredded on-site at this event while you watch\, so bring all confidential documents that you would like destroyed.  Don't become one of the 9 million people affected by Identity Theft each year with approximately 75% resulting from paper documents getting into the wrong hands.
X-ALT-DESC;FMTTYPE=text/html:<p class="MsoBodyText">\n	The RBHS PTSA will host a Shred-A-Thon Fundraiser! This event will help raise funds to support the many programs that the PTSA sponsors.</p>\n<p class="MsoBodyText">\n	Documents will be shredded on-site at this event while you watch\, so bring all confidential documents that you would like destroyed.<span style="mso-spacerun:yes">&nbsp\; </span>Don&rsquo\;t become one of the 9 million people affected by Identity Theft each year with approximately 75% resulting from paper documents getting into the wrong hands.</p>\n
LOCATION:Rancho Bernardo High School - Parking Lot in front of school 13010 Paseo Lucido San Diego\, CA 92128
UID:e.784.2291
SEQUENCE:3
DTSTAMP:20260423T083613Z
URL:https://chamber.sdbusinesschamber.com/events/details/shred-a-thon-05-14-2011-2291
END:VEVENT

END:VCALENDAR
