BEGIN:VCALENDAR
VERSION:2.0
PRODID:-//ChamberMaster//Event Calendar 2.0//EN
METHOD:PUBLISH
X-PUBLISHED-TTL:P3D
REFRESH-INTERVAL:P3D
CALSCALE:GREGORIAN
BEGIN:VEVENT
DTSTART:20120905T150000Z
DTEND:20120905T190000Z
X-MICROSOFT-CDO-ALLDAYEVENT:FALSE
SUMMARY:Senior of Today Conference
DESCRIPTION:Senior Industry service and product booths will be available for you to learn more about local and county services available to you.  Expert presenters will sidcuss safety in the community and how to avoid the many senior scams that happen today.  Medicare and Medi-Cal information on changes is also available.
X-ALT-DESC;FMTTYPE=text/html:<p>\n	Senior Industry service and product booths will be available for you to learn more about local and county services available to you.&nbsp\; Expert presenters will sidcuss safety in the community and how to avoid the many senior scams that happen today.&nbsp\; Medicare and Medi-Cal information on changes is also available.&nbsp\;</p>\n
LOCATION:Powary Senior Center 13094 Civic Center Drive Poway\, Ca 92064
UID:e.784.2676
SEQUENCE:3
DTSTAMP:20260422T092533Z
URL:https://chamber.sdbusinesschamber.com/events/details/senior-of-today-conference-09-05-2012-2676
END:VEVENT

END:VCALENDAR
