BEGIN:VCALENDAR
VERSION:2.0
PRODID:-//ChamberMaster//Event Calendar 2.0//EN
METHOD:PUBLISH
X-PUBLISHED-TTL:P3D
REFRESH-INTERVAL:P3D
CALSCALE:GREGORIAN
BEGIN:VEVENT
DTSTART:20130911T000000Z
DTEND:20130911T030000Z
X-MICROSOFT-CDO-ALLDAYEVENT:FALSE
SUMMARY:SDEA Supervisory Skill Certificate Program
DESCRIPTION:The Supervisory Skills Certificate Program\, offered since 1988\, has been developed to help new managers and supervisors learn and apply good management principles in their work groups. Using a variety of proven instructional techniques\, this twelve week course  builds the essential knowledge and skill that supervisors and managers must possess to be successful both in today's workplace and in the future.\n\n	Discussion and exercises are geared for leaders in any stage of their careers   from the new supervisor who needs a basic foundation to the tenured manager who simply needs a refresher. SDEA welcomes hundreds of participants through this workshop series annually.\n\n	Every participant who satisfactorily completes the course will receive a personalized certificate.  Though good attendance is stressed\, if a program participant is unable to attend one or several of the courses for a valid reason\, they may make them up during the next semester.  Attendance to 10 of 12 courses is required to receive the certificate.\n\n	The course consists of 12 classes some of which are offered individually and some only as part of the bundled certificate program.\n\n	First Week: Introduction to Program\n\n	\n		Leading in a Time of Change\n	\n		Communications\n	\n		Orienting New Hires\n	\n		Leadership\n	\n		Coaching and Counseling\n	\n		Resolving Conflict\n	\n		Time Management & Delegation\n	\n		Employment Law\n	\n		Strategic Interviewing\n	\n		Reprimand\, Discipline & Discharge\n	\n		Performance Appraisals\n\n\n	By taking advantage of this beneficial program\, you or your organization will save considerably   you will get 12 courses bundled for the price of 7\, if you're a member and 9 if you're are a non member! And once you have completed the program\, a personalized certificate will be sent regarding your achievement.
X-ALT-DESC;FMTTYPE=text/html:<p>\n	The Supervisory Skills Certificate Program\, offered since 1988\, has been developed to help new managers and supervisors learn and apply good management principles in their work groups. Using a variety of proven instructional techniques\, this twelve week course&nbsp\; builds the essential knowledge and skill that supervisors and managers must possess to be successful both in today&rsquo\;s workplace and in the future.</p>\n<p>\n	Discussion and exercises are geared for leaders in any stage of their careers &ndash\; from the new supervisor who needs a basic foundation to the tenured manager who simply needs a refresher.&nbsp\;SDEA&nbsp\;welcomes hundreds of participants through this workshop series annually.</p>\n<p>\n	Every participant who satisfactorily completes the course will receive a personalized certificate.&nbsp\; Though good attendance is stressed\, if a program participant is unable to attend one or several of the courses for a valid reason\, they may make them up during the next semester.&nbsp\; Attendance to&nbsp\;10 of 12&nbsp\;courses is required to receive the certificate.</p>\n<p>\n	The course consists of 12 classes some of which are offered individually and some only as part of the bundled certificate program.</p>\n<p>\n	First Week: Introduction to Program</p>\n<ul sizcache="0" sizset="39">\n	<li>\n		Leading in a Time of Change</li>\n	<li>\n		Communications</li>\n	<li>\n		Orienting New Hires</li>\n	<li>\n		Leadership</li>\n	<li>\n		Coaching and Counseling</li>\n	<li>\n		Resolving Conflict</li>\n	<li>\n		Time Management &amp\; Delegation</li>\n	<li>\n		Employment Law</li>\n	<li>\n		Strategic Interviewing</li>\n	<li>\n		Reprimand\, Discipline&nbsp\;&amp\; Discharge</li>\n	<li>\n		Performance Appraisals</li>\n</ul>\n<p>\n	By taking advantage of this&nbsp\;beneficial program\, you or your&nbsp\;organization will save considerably &ndash\; you will get 12 courses bundled for the price of 7\, if you&rsquo\;re a member and 9 if you&rsquo\;re are a non member! And once you have completed the program\, a personalized certificate will be sent regarding your achievement.</p>\n
LOCATION:SDEA Training Facilities 4180 Ruffin Road\, Ste 295 San Diego\, CA 92123 858-505-0024
UID:e.784.2939
SEQUENCE:3
DTSTAMP:20260421T142847Z
URL:https://chamber.sdbusinesschamber.com/events/details/sdea-supervisory-skill-certificate-program-09-10-2013-2939
END:VEVENT

END:VCALENDAR
