BEGIN:VCALENDAR
VERSION:2.0
PRODID:-//ChamberMaster//Event Calendar 2.0//EN
METHOD:PUBLISH
X-PUBLISHED-TTL:P3D
REFRESH-INTERVAL:P3D
CALSCALE:GREGORIAN
BEGIN:VEVENT
DTSTART:20130227T191500Z
DTEND:20130227T210000Z
X-MICROSOFT-CDO-ALLDAYEVENT:FALSE
SUMMARY:SDEA Strategic Leadership Series: Dealing with ?Psychopaths? in the Workplace.
DESCRIPTION:Personality Trait\, Corporate 'Psychopaths' Executive Ego and the Challenges for Modern Organizations\n\n	How do you really know if one or more of your leaders or colleagues may be a corporate 'psychopath'?\n\n	Corporate psychopaths' can be charming\, engaging\, fun\, attractive\, but in this presentation you will learn to recognize traits which can affect employee performance\, retention and balance in the workplace.\n\n	Dr. Simon Croom presents a fascinating and informative discussion regarding personality types and personality disorders in the workplace.  Develop coping strategies vital to securing your future and your organizations' moral compass.\n\n\n\n\n\n	Register at www.sdea.com or call 858.505.0024\n\n	Simon R Croom (Ph.D. M.Sc. BA. FCIPS. FRSA. CPSM) is an academic writer\, speaker\, researcher and consultant. Dr. Croom's groundbreaking study into personality traits of professionals explores the impact on value management behaviors and strives for a better understanding of personality on management performance.\n\n	  Masters and Doctoral degrees from Europe's leading business school\, Warwick\n\n	  Extensive research into process improvement & design chain management\n\n	  Published over 60 technical papers and books\n\n	  Speaking engagements around the world\n\n	  Professor of Supply Chain Management and Quondom Executive Director of the Supply\n\n	Chain Management Institute at the University of San Diego
X-ALT-DESC;FMTTYPE=text/html:<p class="MsoNormal">\n	Personality Trait\, Corporate &lsquo\;Psychopaths&rsquo\; Executive Ego and the Challenges for Modern Organizations</p>\n<p class="MsoNormal">\n	How do you really know if one or more of your leaders or colleagues may be a corporate &lsquo\;psychopath&rsquo\;?</p>\n<p class="MsoNormal">\n	Corporate psychopaths&rsquo\; can be charming\, engaging\, fun\, attractive\, but in this presentation you will learn to recognize traits which can affect employee performance\, retention and balance in the workplace.</p>\n<p class="MsoNormal">\n	Dr. Simon Croom presents a fascinating and informative discussion regarding personality types and personality disorders in the workplace.&nbsp\; Develop coping strategies vital to securing your future and your organizations&rsquo\; moral compass.</p>\n<br />\n<br />\n<p class="MsoNormal">\n	Register at <a href="http://www.sdea.com">www.sdea.com</a> or call 858.505.0024<o:p></o:p></p>\n<p class="MsoNormal">\n	Simon R Croom (Ph.D. M.Sc. BA. FCIPS. FRSA. CPSM) is an academic writer\, speaker\, researcher and consultant. Dr. Croom&rsquo\;s groundbreaking study into personality traits of professionals explores the impact on value management behaviors and strives for a better understanding of personality on management performance.<o:p></o:p></p>\n<p class="MsoNormal">\n	&bull\; Masters and Doctoral degrees from Europe&rsquo\;s leading business school\, Warwick<o:p></o:p></p>\n<p class="MsoNormal">\n	&bull\; Extensive research into process improvement &amp\; design chain management<o:p></o:p></p>\n<p class="MsoNormal">\n	&bull\; Published over 60 technical papers and books<o:p></o:p></p>\n<p class="MsoNormal">\n	&bull\; Speaking engagements around the world<o:p></o:p></p>\n<p class="MsoNormal">\n	&bull\; Professor of Supply Chain Management and Quondom Executive Director of the Supply<o:p></o:p></p>\n<p class="MsoNormal">\n	Chain Management Institute at the University of San Diego<o:p></o:p></p>\n
LOCATION:Qualcomm Stadium 9449 Friars Road San Diego\, CA 92108
UID:e.784.2838
SEQUENCE:3
DTSTAMP:20260422T015937Z
URL:https://chamber.sdbusinesschamber.com/events/details/sdea-strategic-leadership-series-dealing-with-psychopaths-in-the-workplace-02-27-2013-2838
END:VEVENT

END:VCALENDAR
