BEGIN:VCALENDAR
VERSION:2.0
PRODID:-//ChamberMaster//Event Calendar 2.0//EN
METHOD:PUBLISH
X-PUBLISHED-TTL:P3D
REFRESH-INTERVAL:P3D
CALSCALE:GREGORIAN
BEGIN:VEVENT
DTSTART:20130720T140000Z
DTEND:20130720T230000Z
X-MICROSOFT-CDO-ALLDAYEVENT:FALSE
SUMMARY:SDCCU Super Shred Event
DESCRIPTION:Shredding the Guinness World Record\, Free gift for first 1000 Guests.
X-ALT-DESC;FMTTYPE=text/html:<strong>Shredding the Guinness World Record\, Free gift for first 1000 Guests.</strong>
LOCATION:Qualcomm Stadium\, Northwest Parking lot
UID:e.784.2921
SEQUENCE:3
DTSTAMP:20260421T191416Z
URL:https://chamber.sdbusinesschamber.com/events/details/sdccu-super-shred-event-07-20-2013-2921
END:VEVENT

END:VCALENDAR
