BEGIN:VCALENDAR
VERSION:2.0
PRODID:-//ChamberMaster//Event Calendar 2.0//EN
METHOD:PUBLISH
X-PUBLISHED-TTL:P3D
REFRESH-INTERVAL:P3D
CALSCALE:GREGORIAN
BEGIN:VEVENT
DTSTART:20091210T080000Z
DTEND:20091210T080000Z
X-MICROSOFT-CDO-ALLDAYEVENT:FALSE
SUMMARY:SD Chargers’ Update & Stadium Pursuit Info with Jim Steeg an
DESCRIPTION:
X-ALT-DESC;FMTTYPE=text/html:
LOCATION:Sony Electronics\, Inc.
UID:e.784.973
SEQUENCE:3
DTSTAMP:20260424T085413Z
URL:https://chamber.sdbusinesschamber.com/events/details/sd-chargers-update-stadium-pursuit-info-with-jim-steeg-an-12-10-2009-973
END:VEVENT

END:VCALENDAR
