BEGIN:VCALENDAR
VERSION:2.0
PRODID:-//ChamberMaster//Event Calendar 2.0//EN
METHOD:PUBLISH
X-PUBLISHED-TTL:P3D
REFRESH-INTERVAL:P3D
CALSCALE:GREGORIAN
BEGIN:VEVENT
DTSTART:20210112T160000Z
DTEND:20210112T170000Z
X-MICROSOFT-CDO-ALLDAYEVENT:FALSE
SUMMARY:SD Business Summit Strategy Team Meeting 4
DESCRIPTION:This meeting is for members of the San Diego Business Summit Strategy Team only.
X-ALT-DESC;FMTTYPE=text/html:This meeting is for members of the San Diego Business Summit Strategy Team only.
LOCATION:Zoom Meeting
UID:e.784.26918
SEQUENCE:3
DTSTAMP:20260425T154217Z
URL:https://chamber.sdbusinesschamber.com/events/details/sd-business-summit-strategy-team-meeting-4-26918
END:VEVENT

END:VCALENDAR
