BEGIN:VCALENDAR
VERSION:2.0
PRODID:-//ChamberMaster//Event Calendar 2.0//EN
METHOD:PUBLISH
X-PUBLISHED-TTL:P3D
REFRESH-INTERVAL:P3D
CALSCALE:GREGORIAN
BEGIN:VEVENT
DTSTART:20200820T170000Z
DTEND:20200820T223000Z
X-MICROSOFT-CDO-ALLDAYEVENT:FALSE
SUMMARY:Saving Lives Together Blood Drive
DESCRIPTION:We want to help San Diego Blood Bank collect as much blood components as possible. Please join us to help save lives. \n\nWe will have snacks\, giveaways and more! \n\n\n\nPhoto ID and mask or face covering required.\n\n\n\nPlease arrive hydrated!\n\n\n\nSchedule your appointment now!\n\nhttps://mypointcu.com/blooddrive
X-ALT-DESC;FMTTYPE=text/html:We want to help San Diego Blood Bank collect as much blood components as possible. Please join us to help save lives.&nbsp\;<br />\nWe will have snacks\, giveaways and more!&nbsp\;<br />\n<br />\nPhoto ID and mask or face covering required.<br />\n<br />\nPlease arrive hydrated!<br />\n<br />\nSchedule your appointment now!<br />\nhttps://mypointcu.com/blooddrive<br />\n<br />\n&nbsp\;
LOCATION:MyPoint Credit Union Kearny Mesa Branch 9420 Farnham St\, San Diego Ca 92123
UID:e.784.25583
SEQUENCE:3
DTSTAMP:20260425T222743Z
URL:https://chamber.sdbusinesschamber.com/events/details/saving-lives-together-blood-drive-25583
END:VEVENT

END:VCALENDAR
