BEGIN:VCALENDAR
VERSION:2.0
PRODID:-//ChamberMaster//Event Calendar 2.0//EN
METHOD:PUBLISH
X-PUBLISHED-TTL:P3D
REFRESH-INTERVAL:P3D
CALSCALE:GREGORIAN
BEGIN:VEVENT
DTSTART:20110331T003000Z
DTEND:20110403T040000Z
X-MICROSOFT-CDO-ALLDAYEVENT:FALSE
SUMMARY:San Diego Women's Week
DESCRIPTION:A premier symposium with hundreds of women in leadership roles across all organizations and industries. Designed to inspire\, empower and connect women executives\, managers\, professionals\, emerging leaders\, young women and social entrepreneurs. San Diego Women's Week is truly an inspiring event.\n\n	San Diego Women's Week will provide inspirational keynote speakers\, host breakout forums and provide unique opportunities for all who attend. Speakers at San Diego Women's Week will focus on a variety of topics\, ranging from health and fashion to business and technology. More than 5\,000 visitors from the San Diego region are expected to attend the event hosted at California Center for the Arts in Escondido.
X-ALT-DESC;FMTTYPE=text/html:<p style="color: black\;">\n	A premier symposium with hundreds of women in leadership roles across all organizations and industries. Designed to inspire\, empower and connect women executives\, managers\, professionals\, emerging leaders\, young women and social entrepreneurs. San Diego Women&#39\;s Week is truly an inspiring event.</p>\n<p style="color: black\;">\n	San Diego Women&#39\;s Week will provide inspirational keynote speakers\, host breakout forums and provide unique opportunities for all who attend. Speakers at San Diego Women&#39\;s Week will focus on a variety of topics\, ranging from health and fashion to business and technology. More than 5\,000 visitors from the San Diego region are expected to attend the event hosted at California Center for the Arts in Escondido.</p>\n
LOCATION:California Center for the Arts Escondido 340 North Escondido Boulevard Escondido\, CA 92025
UID:e.784.2262
SEQUENCE:3
DTSTAMP:20260423T113036Z
URL:https://chamber.sdbusinesschamber.com/events/details/san-diego-women-s-week-03-30-2011-2262
END:VEVENT

END:VCALENDAR
