BEGIN:VCALENDAR
VERSION:2.0
PRODID:-//ChamberMaster//Event Calendar 2.0//EN
METHOD:PUBLISH
X-PUBLISHED-TTL:P3D
REFRESH-INTERVAL:P3D
CALSCALE:GREGORIAN
BEGIN:VEVENT
DTSTART;VALUE=DATE:20130311
DTEND;VALUE=DATE:20130316
TRANSP:TRANSPARENT
X-MICROSOFT-CDO-ALLDAYEVENT:TRUE
SUMMARY:San Diego Women's Week
DESCRIPTION:For information on San Diego Women's Week click here.
X-ALT-DESC;FMTTYPE=text/html:For information on San Diego Women&#39\;s Week <a href="http://www.sdwomensweek.com">click here</a>.
LOCATION:
UID:e.784.2833
SEQUENCE:3
DTSTAMP:20260422T014501Z
URL:https://chamber.sdbusinesschamber.com/events/details/san-diego-women-s-week-03-11-2013-2833
END:VEVENT

END:VCALENDAR
