BEGIN:VCALENDAR
VERSION:2.0
PRODID:-//ChamberMaster//Event Calendar 2.0//EN
METHOD:PUBLISH
X-PUBLISHED-TTL:P3D
REFRESH-INTERVAL:P3D
CALSCALE:GREGORIAN
BEGIN:VEVENT
DTSTART:20120811T200000Z
DTEND:20120812T000000Z
X-MICROSOFT-CDO-ALLDAYEVENT:FALSE
SUMMARY:San Diego Wine Country Festival
DESCRIPTION:Don't miss this local wine event August 11th! Come taste wines from across San Diego County and meet the winemakers who produce them! August 11th at the 120 year old Bernardo Winery. Over 20 San Diego Wineries participating as well as Wine Educational booths presented by several area Wine Associations.\n\nTickets $25 online at www.brownpapertickets.com and $30 at the door. Tickets include tasting 10 wines\, logo glass\, personal baguette and oil/vinegar for dipping. Additional food and beverage available for purchase on winery grounds. for more information visit www.bernardowinery.com or call 858.487.1866
X-ALT-DESC;FMTTYPE=text/html:<span style="font-size: 14px"><span style="font-family: verdana">Don&#39\;t miss this local wine event August 11th! Come taste wines from across San Diego County and meet the winemakers who produce them! August 11th at the 120 year old Bernardo Winery. Over 20 San Diego Wineries participating as well as Wine Educational booths&nbsp\;presented by several&nbsp\;area Wine Associations.<br />\nTickets $25 online at <a href="http://www.brownpapertickets.com">www.brownpapertickets.com</a> and $30 at the door. Tickets include tasting 10 wines\, logo glass\, personal baguette and oil/vinegar for dipping. Additional food and beverage&nbsp\;available for purchase on winery grounds. for more information visit <a href="http://www.bernardowinery.com">www.bernardowinery.com</a> or call 858.487.1866</span></span>
LOCATION:Bernardo Winery
UID:e.784.2670
SEQUENCE:3
DTSTAMP:20260422T110210Z
URL:https://chamber.sdbusinesschamber.com/events/details/san-diego-wine-country-festival-08-11-2012-2670
END:VEVENT

END:VCALENDAR
