BEGIN:VCALENDAR
VERSION:2.0
PRODID:-//ChamberMaster//Event Calendar 2.0//EN
METHOD:PUBLISH
X-PUBLISHED-TTL:P3D
REFRESH-INTERVAL:P3D
CALSCALE:GREGORIAN
BEGIN:VEVENT
DTSTART:20131012T180000Z
DTEND:20131012T190000Z
X-MICROSOFT-CDO-ALLDAYEVENT:FALSE
SUMMARY:San Diego Solar Program Luncheon
DESCRIPTION:Sullivan Solar Power would like to invite you to a free\, informational solar luncheon on Saturday\, October 12 at Escondido City Hall - Mitchell Room. The hour-long presentation will cover solar technology\, rebates and incentives\, a local case study and what to expect with the recent SDG&E rate hike. Lunch will be provided and RSVP is appreciated\, 858-271-7758.
X-ALT-DESC;FMTTYPE=text/html:<em><span style="color:black\;">Sullivan Solar Power would like to invite you to</span></em><em><span style="color:black\;"><span style="font-family:arial\,sans-serif\;">&nbsp\;a free\, informational&nbsp\;solar&nbsp\;luncheon on Saturday\, October 12&nbsp\;at Escondido City Hall - Mitchell Room. The hour-long presentation will cover&nbsp\;solar&nbsp\;technology\, rebates and incentives\, a local case study and what to expect with the recent SDG&amp\;E rate hike. Lunch will be provided and RSVP is appreciated\, 858-271-7758.</span></span></em><br />\n
LOCATION:Escondido City Hall - Mitchell Room (201 N. Broadway\, Escondido\, 92025)
UID:e.784.2980
SEQUENCE:3
DTSTAMP:20260421T125831Z
URL:https://chamber.sdbusinesschamber.com/events/details/san-diego-solar-program-luncheon-10-12-2013-2980
END:VEVENT

END:VCALENDAR
