BEGIN:VCALENDAR
VERSION:2.0
PRODID:-//ChamberMaster//Event Calendar 2.0//EN
METHOD:PUBLISH
X-PUBLISHED-TTL:P3D
REFRESH-INTERVAL:P3D
CALSCALE:GREGORIAN
BEGIN:VEVENT
DTSTART:20120512T180000Z
DTEND:20120512T190000Z
X-MICROSOFT-CDO-ALLDAYEVENT:FALSE
SUMMARY:San Diego Solar Program Luncheon
DESCRIPTION:This informational presentation at the Mingei Museum in Balboa Park will cover solar technology\, rebates and incentives\, case studies and the countywide San Diego Solar Program. San Diego property owners will learn how to get paid to go solar through participation. The seminar will last approximately one hour and lunch will be provided. RSVP appreciated. Visit www.SanDiegoSolarProgram.org or call             1.800.785.5482       for more information
X-ALT-DESC;FMTTYPE=text/html:<span style="font-family: arial\, sans-serif\; font-size: 13px\; background-color: rgba(255\, 255\, 255\, 0.917969)\; ">This informational presentation at the Mingei Museum in Balboa Park will cover solar technology\, rebates and incentives\, case studies and the countywide&nbsp\;</span><span style="font-family: arial\, sans-serif\; font-size: 13px\; background-color: rgba(255\, 255\, 255\, 0.917969)\; ">San Diego</span><span style="font-family: arial\, sans-serif\; font-size: 13px\; background-color: rgba(255\, 255\, 255\, 0.917969)\; ">&nbsp\;Solar Program.&nbsp\;</span><span style="font-family: arial\, sans-serif\; font-size: 13px\; background-color: rgba(255\, 255\, 255\, 0.917969)\; ">San Diego&nbsp\;</span><span style="font-family: arial\, sans-serif\; font-size: 13px\; background-color: rgba(255\, 255\, 255\, 0.917969)\; ">property owners will learn how to get paid to go solar through participation. The&nbsp\;</span><span style="font-family: arial\, sans-serif\; font-size: 13px\; background-color: rgba(255\, 255\, 255\, 0.917969)\; ">seminar</span><span style="font-family: arial\, sans-serif\; font-size: 13px\; background-color: rgba(255\, 255\, 255\, 0.917969)\; ">&nbsp\;will last approximately one hour and lunch will be provided. RSVP appreciated. Visit www.SanDiegoSolarProgram.org or call&nbsp\;</span><a href="tel:1.800.785.5482" style="color: rgb(17\, 85\, 204)\; font-family: arial\, sans-serif\; font-size: 13px\; background-color: rgba(255\, 255\, 255\, 0.917969)\; " target="_blank"><span class="skype_pnh_container" dir="ltr" style="background-attachment: scroll !important\; background-color: transparent !important\; background-image: none !important\; border-color: initial !important\; border-image: initial !important\; border-left-color: rgb(0\, 0\, 0) !important\; border-left-style: none !important\; border-left-width: 0px !important\; border-top-color: rgb(0\, 0\, 0) !important\; border-top-style: none !important\; border-top-width: 0px !important\; border-right-color: rgb(0\, 0\, 0) !important\; border-right-style: none !important\; border-right-width: 0px !important\; border-bottom-color: rgb(0\, 0\, 0) !important\; border-bottom-style: none !important\; border-bottom-width: 0px !important\; border-collapse: separate !important\; bottom: auto !important\; clear: none !important\; clip: auto !important\; cursor: pointer !important\; direction: ltr !important\; display: inline !important\; float: none !important\; left: auto !important\; letter-spacing: 0px !important\; list-style-image: none !important\; list-style-position: outside !important\; list-style-type: disc !important\; overflow-x: hidden !important\; overflow-y: hidden !important\; padding-left: 0px !important\; padding-top: 0px !important\; padding-right: 0px !important\; padding-bottom: 0px !important\; page-break-after: auto !important\; page-break-before: auto !important\; page-break-inside: auto !important\; position: static !important\; right: auto !important\; table-layout: auto !important\; text-align: left !important\; text-decoration: none !important\; top: auto !important\; white-space: nowrap !important\; word-spacing: normal !important\; z-index: 0 !important\; color: rgb(73\, 83\, 90) !important\; font-family: Tahoma\, Arial\, Helvetica\, sans-serif !important\; font-size: 11px !important\; font-weight: bold !important\; height: 14px !important\; line-height: 14px !important\; margin-left: 0px !important\; margin-top: 0px !important\; margin-right: 0px !important\; margin-bottom: 0px !important\; vertical-align: baseline !important\; width: auto !important\; background-position: 0px 0px !important\; background-repeat: no-repeat no-repeat !important\; " tabindex="-1">&nbsp\;<span class="skype_pnh_highlighting_inactive_common" dir="ltr" skypeaction="skype_dropdown" style="background-attachment: scroll !important\; background-color: transparent !important\; background-image: none !important\; border-color: initial !important\; border-image: initial !important\; border-left-color: rgb(0\, 0\, 0) !important\; border-left-style: none !important\; border-left-width: 0px !important\; border-top-color: rgb(0\, 0\, 0) !important\; border-top-style: none !important\; border-top-width: 0px !important\; border-right-color: rgb(0\, 0\, 0) !important\; border-right-style: none !important\; border-right-width: 0px !important\; border-bottom-color: rgb(0\, 0\, 0) !important\; border-bottom-style: none !important\; border-bottom-width: 0px !important\; border-collapse: separate !important\; bottom: auto !important\; clear: none !important\; clip: auto !important\; cursor: pointer !important\; direction: ltr !important\; display: inline !important\; float: none !important\; left: auto !important\; letter-spacing: 0px !important\; list-style-image: none !important\; list-style-position: outside !important\; list-style-type: disc !important\; overflow-x: hidden !important\; overflow-y: hidden !important\; padding-left: 0px !important\; padding-top: 0px !important\; padding-right: 0px !important\; padding-bottom: 0px !important\; page-break-after: auto !important\; page-break-before: auto !important\; page-break-inside: auto !important\; position: static !important\; right: auto !important\; table-layout: auto !important\; text-decoration: none !important\; top: auto !important\; word-spacing: normal !important\; z-index: 0 !important\; height: 14px !important\; margin-left: 0px !important\; margin-top: 0px !important\; margin-right: 0px !important\; margin-bottom: 0px !important\; vertical-align: baseline !important\; width: auto !important\; background-position: 0px 0px !important\; background-repeat: no-repeat no-repeat !important\; " title="Call this phone number in United States of America with Skype: +18007855482"><span class="skype_pnh_left_span" skypeaction="skype_dropdown" style="background-attachment: scroll !important\; background-color: transparent !important\; background-image: url(chrome-extension://lifbcibllhkdhoafpjfnlhfpfgnpldfl/numbers_common_inactive_icon_set.gif) !important\; border-color: initial !important\; border-image: initial !important\; border-left-color: rgb(0\, 0\, 0) !important\; border-left-style: none !important\; border-left-width: 0px !important\; border-top-color: rgb(0\, 0\, 0) !important\; border-top-style: none !important\; border-top-width: 0px !important\; border-right-color: rgb(0\, 0\, 0) !important\; border-right-style: none !important\; border-right-width: 0px !important\; border-bottom-color: rgb(0\, 0\, 0) !important\; border-bottom-style: none !important\; border-bottom-width: 0px !important\; border-collapse: separate !important\; bottom: auto !important\; clear: none !important\; clip: auto !important\; cursor: pointer !important\; direction: ltr !important\; display: inline !important\; float: none !important\; left: auto !important\; letter-spacing: 0px !important\; list-style-image: none !important\; list-style-position: outside !important\; list-style-type: disc !important\; overflow-x: hidden !important\; overflow-y: hidden !important\; padding-left: 0px !important\; padding-top: 0px !important\; padding-right: 0px !important\; padding-bottom: 0px !important\; page-break-after: auto !important\; page-break-before: auto !important\; page-break-inside: auto !important\; position: static !important\; right: auto !important\; table-layout: auto !important\; text-decoration: none !important\; top: auto !important\; word-spacing: normal !important\; z-index: 0 !important\; height: 14px !important\; margin-left: 0px !important\; margin-top: 0px !important\; margin-right: 0px !important\; margin-bottom: 0px !important\; vertical-align: baseline !important\; width: 6px !important\; background-position: 0px 0px !important\; background-repeat: no-repeat no-repeat !important\; ">&nbsp\;&nbsp\;</span><span class="skype_pnh_dropart_span" skypeaction="skype_dropdown" style="background-attachment: scroll !important\; background-color: transparent !important\; background-image: url(chrome-extension://lifbcibllhkdhoafpjfnlhfpfgnpldfl/numbers_common_inactive_icon_set.gif) !important\; border-color: initial !important\; border-image: initial !important\; border-left-color: rgb(0\, 0\, 0) !important\; border-left-style: none !important\; border-left-width: 0px !important\; border-top-color: rgb(0\, 0\, 0) !important\; border-top-style: none !important\; border-top-width: 0px !important\; border-right-color: rgb(0\, 0\, 0) !important\; border-right-style: none !important\; border-right-width: 0px !important\; border-bottom-color: rgb(0\, 0\, 0) !important\; border-bottom-style: none !important\; border-bottom-width: 0px !important\; border-collapse: separate !important\; bottom: auto !important\; clear: none !important\; clip: auto !important\; cursor: pointer !important\; direction: ltr !important\; display: inline !important\; float: none !important\; left: auto !important\; letter-spacing: 0px !important\; list-style-image: none !important\; list-style-position: outside !important\; list-style-type: disc !important\; overflow-x: hidden !important\; overflow-y: hidden !important\; padding-left: 0px !important\; padding-top: 0px !important\; padding-right: 0px !important\; padding-bottom: 0px !important\; page-break-after: auto !important\; page-break-before: auto !important\; page-break-inside: auto !important\; position: static !important\; right: auto !important\; table-layout: auto !important\; text-decoration: none !important\; top: auto !important\; word-spacing: normal !important\; z-index: 0 !important\; height: 14px !important\; margin-left: 0px !important\; margin-top: 0px !important\; margin-right: 0px !important\; margin-bottom: 0px !important\; vertical-align: baseline !important\; width: 27px !important\; background-position: -11px 0px !important\; background-repeat: no-repeat no-repeat !important\; " title="Skype actions"><span class="skype_pnh_dropart_flag_span" skypeaction="skype_dropdown" style="background-attachment: scroll !important\; background-color: transparent !important\; background-image: url(chrome-extension://lifbcibllhkdhoafpjfnlhfpfgnpldfl/flags.gif) !important\; border-color: initial !important\; border-image: initial !important\; border-left-color: rgb(0\, 0\, 0) !important\; border-left-style: none !important\; border-left-width: 0px !important\; border-top-color: rgb(0\, 0\, 0) !important\; border-top-style: none !important\; border-top-width: 0px !important\; border-right-color: rgb(0\, 0\, 0) !important\; border-right-style: none !important\; border-right-width: 0px !important\; border-bottom-color: rgb(0\, 0\, 0) !important\; border-bottom-style: none !important\; border-bottom-width: 0px !important\; border-collapse: separate !important\; bottom: auto !important\; clear: none !important\; clip: auto !important\; cursor: pointer !important\; direction: ltr !important\; display: inline !important\; float: none !important\; left: auto !important\; letter-spacing: 0px !important\; list-style-image: none !important\; list-style-position: outside !important\; list-style-type: disc !important\; overflow-x: hidden !important\; overflow-y: hidden !important\; padding-left: 0px !important\; padding-top: 0px !important\; padding-right: 0px !important\; padding-bottom: 0px !important\; page-break-after: auto !important\; page-break-before: auto !important\; page-break-inside: auto !important\; position: static !important\; right: auto !important\; table-layout: auto !important\; text-decoration: none !important\; top: auto !important\; word-spacing: normal !important\; z-index: 0 !important\; height: 14px !important\; margin-left: 0px !important\; margin-top: 0px !important\; margin-right: 0px !important\; margin-bottom: 0px !important\; vertical-align: baseline !important\; width: 18px !important\; background-position: 1px 1px !important\; background-repeat: no-repeat no-repeat !important\; ">&nbsp\;&nbsp\;&nbsp\;&nbsp\;&nbsp\;&nbsp\;</span>&nbsp\;&nbsp\;&nbsp\;</span><span class="skype_pnh_textarea_span" style="background-attachment: scroll !important\; background-color: transparent !important\; background-image: url(chrome-extension://lifbcibllhkdhoafpjfnlhfpfgnpldfl/numbers_common_inactive_icon_set.gif) !important\; border-color: initial !important\; border-image: initial !important\; border-left-color: rgb(0\, 0\, 0) !important\; border-left-style: none !important\; border-left-width: 0px !important\; border-top-color: rgb(0\, 0\, 0) !important\; border-top-style: none !important\; border-top-width: 0px !important\; border-right-color: rgb(0\, 0\, 0) !important\; border-right-style: none !important\; border-right-width: 0px !important\; border-bottom-color: rgb(0\, 0\, 0) !important\; border-bottom-style: none !important\; border-bottom-width: 0px !important\; border-collapse: separate !important\; bottom: auto !important\; clear: none !important\; clip: auto !important\; cursor: pointer !important\; direction: ltr !important\; display: inline !important\; float: none !important\; left: auto !important\; letter-spacing: 0px !important\; list-style-image: none !important\; list-style-position: outside !important\; list-style-type: disc !important\; overflow-x: hidden !important\; overflow-y: hidden !important\; padding-left: 0px !important\; padding-top: 0px !important\; padding-right: 0px !important\; padding-bottom: 0px !important\; page-break-after: auto !important\; page-break-before: auto !important\; page-break-inside: auto !important\; position: static !important\; right: auto !important\; table-layout: auto !important\; text-decoration: none !important\; top: auto !important\; word-spacing: normal !important\; z-index: 0 !important\; height: 14px !important\; margin-left: 0px !important\; margin-top: 0px !important\; margin-right: 0px !important\; margin-bottom: 0px !important\; vertical-align: baseline !important\; width: auto !important\; background-position: -125px 0px !important\; background-repeat: no-repeat no-repeat !important\; "><span class="skype_pnh_text_span" style="background-attachment: scroll !important\; background-color: transparent !important\; background-image: url(chrome-extension://lifbcibllhkdhoafpjfnlhfpfgnpldfl/numbers_common_inactive_icon_set.gif) !important\; border-color: initial !important\; border-image: initial !important\; border-left-color: rgb(0\, 0\, 0) !important\; border-left-style: none !important\; border-left-width: 0px !important\; border-top-color: rgb(0\, 0\, 0) !important\; border-top-style: none !important\; border-top-width: 0px !important\; border-right-color: rgb(0\, 0\, 0) !important\; border-right-style: none !important\; border-right-width: 0px !important\; border-bottom-color: rgb(0\, 0\, 0) !important\; border-bottom-style: none !important\; border-bottom-width: 0px !important\; border-collapse: separate !important\; bottom: auto !important\; clear: none !important\; clip: auto !important\; cursor: pointer !important\; direction: ltr !important\; display: inline !important\; float: none !important\; left: auto !important\; letter-spacing: 0px !important\; list-style-image: none !important\; list-style-position: outside !important\; list-style-type: disc !important\; overflow-x: hidden !important\; overflow-y: hidden !important\; padding-left: 5px !important\; padding-top: 0px !important\; padding-right: 0px !important\; padding-bottom: 0px !important\; page-break-after: auto !important\; page-break-before: auto !important\; page-break-inside: auto !important\; position: static !important\; right: auto !important\; table-layout: auto !important\; text-decoration: none !important\; top: auto !important\; word-spacing: normal !important\; z-index: 0 !important\; height: 14px !important\; margin-left: 0px !important\; margin-top: 0px !important\; margin-right: 0px !important\; margin-bottom: 0px !important\; vertical-align: baseline !important\; width: auto !important\; background-position: -125px 0px !important\; background-repeat: no-repeat no-repeat !important\; ">1.800.785.5482</span></span><span class="skype_pnh_right_span" style="background-attachment: scroll !important\; background-color: transparent !important\; background-image: url(chrome-extension://lifbcibllhkdhoafpjfnlhfpfgnpldfl/numbers_common_inactive_icon_set.gif) !important\; border-color: initial !important\; border-image: initial !important\; border-left-color: rgb(0\, 0\, 0) !important\; border-left-style: none !important\; border-left-width: 0px !important\; border-top-color: rgb(0\, 0\, 0) !important\; border-top-style: none !important\; border-top-width: 0px !important\; border-right-color: rgb(0\, 0\, 0) !important\; border-right-style: none !important\; border-right-width: 0px !important\; border-bottom-color: rgb(0\, 0\, 0) !important\; border-bottom-style: none !important\; border-bottom-width: 0px !important\; border-collapse: separate !important\; bottom: auto !important\; clear: none !important\; clip: auto !important\; cursor: pointer !important\; direction: ltr !important\; display: inline !important\; float: none !important\; left: auto !important\; letter-spacing: 0px !important\; list-style-image: none !important\; list-style-position: outside !important\; list-style-type: disc !important\; overflow-x: hidden !important\; overflow-y: hidden !important\; padding-left: 0px !important\; padding-top: 0px !important\; padding-right: 0px !important\; padding-bottom: 0px !important\; page-break-after: auto !important\; page-break-before: auto !important\; page-break-inside: auto !important\; position: static !important\; right: auto !important\; table-layout: auto !important\; text-decoration: none !important\; top: auto !important\; word-spacing: normal !important\; z-index: 0 !important\; height: 14px !important\; margin-left: 0px !important\; margin-top: 0px !important\; margin-right: 0px !important\; margin-bottom: 0px !important\; vertical-align: baseline !important\; width: 15px !important\; background-position: -62px 0px !important\; background-repeat: no-repeat no-repeat !important\; ">&nbsp\;&nbsp\;&nbsp\;&nbsp\;&nbsp\;</span></span>&nbsp\;</span></a><span style="font-family: arial\, sans-serif\; font-size: 13px\; background-color: rgba(255\, 255\, 255\, 0.917969)\; ">&nbsp\;for more information</span>
LOCATION:Mingei International Museum\, Balboa Park\, 1439 El Prado\, San Diego\, CA 92101
UID:e.784.2648
SEQUENCE:3
DTSTAMP:20260422T171539Z
URL:https://chamber.sdbusinesschamber.com/events/details/san-diego-solar-program-luncheon-05-12-2012-2648
END:VEVENT

END:VCALENDAR
