BEGIN:VCALENDAR
VERSION:2.0
PRODID:-//ChamberMaster//Event Calendar 2.0//EN
METHOD:PUBLISH
X-PUBLISHED-TTL:P3D
REFRESH-INTERVAL:P3D
CALSCALE:GREGORIAN
BEGIN:VEVENT
DTSTART:20121027T180000Z
DTEND:20121027T190000Z
X-MICROSOFT-CDO-ALLDAYEVENT:FALSE
SUMMARY:San Diego Solar Program Breakfast
DESCRIPTION:This informational presentation will cover solar technology\, rebates and incentives\, case studies and the San Diego Solar Program (valid through 12/31/2012). This Program allows San Diego County homeowners to go solar for $0 upfront and receive cash-back incentives. San Diego County property owners will learn how to participate and get paid to go solar. The free seminar will last approximately one hour and breakfast will be provided. Attendance is not required to participate. Space is Limited\; RSVP required. Visit SanDiegoSolarProgram.org or call 1.800.785.5482 for more information.
X-ALT-DESC;FMTTYPE=text/html:<div class="im" style="color: rgb(80\, 0\, 80)\; ">\n	<span style="font-size: 12.800000190734863px\; font-family: arial\, sans-serif\; ">This informational presentation will cover solar technology\, rebates and incentives\, case studies and the San Diego Solar Program (valid through 12/31/2012). This Program allows San Diego County homeowners to go solar for $0 upfront and receive cash-back incentives. San Diego County property owners will learn how to participate and get paid to go solar. The free seminar will last approximately one hour and breakfast will be provided. Attendance is not required to participate. Space is Limited\; RSVP required. Visit SanDiegoSolarProgram.org or call&nbsp\;</span><a href="tel:1.800.785.5482" style="color: rgb(17\, 85\, 204)\; font-size: 12.800000190734863px\; font-family: arial\, sans-serif\; " target="_blank">1.800.785.5482</a><span style="font-size: 12.800000190734863px\; font-family: arial\, sans-serif\; ">&nbsp\;for more information.</span></div>\n<div class="im adL" style="color: rgb(80\, 0\, 80)\; ">\n	&nbsp\;</div>\n<div>\n	&nbsp\;</div>\n<div class="adL">\n	<div class="adm" style="margin: 5px 0px\; font-family: arial\, sans-serif\; font-size: 12.800000190734863px\; ">\n		&nbsp\;</div>\n	<div class="im" style="color: rgb(80\, 0\, 80)\; font-family: arial\, sans-serif\; font-size: 12.800000190734863px\; ">\n		&nbsp\;</div>\n</div>\n
LOCATION:Sullivan Solar Power 8949 Kenamar Dr\, Site 101\, San Diego\, CA\, 92121
UID:e.784.2697
SEQUENCE:3
DTSTAMP:20260422T075316Z
URL:https://chamber.sdbusinesschamber.com/events/details/san-diego-solar-program-breakfast-10-27-2012-2697
END:VEVENT

END:VCALENDAR
