BEGIN:VCALENDAR
VERSION:2.0
PRODID:-//ChamberMaster//Event Calendar 2.0//EN
METHOD:PUBLISH
X-PUBLISHED-TTL:P3D
REFRESH-INTERVAL:P3D
CALSCALE:GREGORIAN
BEGIN:VEVENT
DTSTART:20090404T070000Z
DTEND:20090404T070000Z
X-MICROSOFT-CDO-ALLDAYEVENT:FALSE
SUMMARY:San Diego Science Festival Expo Day: The Science of You!
DESCRIPTION:Come celebrate "The Science of You" in Balboa Park on April 4th\, 2009. Expo Day is the pinnacle event of San Diego Science Festival (SDSF)\, the West Coast's largest celebration of science. Science takes over the museums\, cultural centers\, and the central corridor of Balboa Park with over 300 hands-on activities\, demonstrations\, experiments\, contests\, and performances. Expo Day is perfect for families\, teens\, and adults who are looking for a day of fun and discovery.  With activity categories like "Your Art\," "Your Body\," "Your Planet\," "Your Heroes\," "Your Discoveries\," "Your Sports\," "Your Future\," and "Your Transit\," Expo Day brings something for everyone's curiosity. This is an event notto be missed!  San Diego Science Festival is a collaboration of over 100 leading science organizations and is facilitated by BioBridge\, a program of UC San Diego. Visit the official SDSF website for more information on our sponsors\, our events and ways you can get involved: www.sdsciencefestival.com.
X-ALT-DESC;FMTTYPE=text/html:Come celebrate "The Science of You" in Balboa Park on April 4th\, 2009. Expo Day is the pinnacle event of San Diego Science Festival (SDSF)\, the West Coast's largest celebration of science. Science takes over the museums\, cultural centers\, and the central corridor of Balboa Park with over 300 hands-on activities\, demonstrations\, experiments\, contests\, and performances. Expo Day is perfect for families\, teens\, and adults who are looking for a day of fun and discovery.  With activity categories like "Your Art\," "Your Body\," "Your Planet\," "Your Heroes\," "Your Discoveries\," "Your Sports\," "Your Future\," and "Your Transit\," Expo Day brings something for everyone's curiosity. This is an event notto be missed!  San Diego Science Festival is a collaboration of over 100 leading science organizations and is facilitated by BioBridge\, a program of UC San Diego. Visit the official SDSF website for more information on our sponsors\, our events and ways you can get involved: www.sdsciencefestival.com.
LOCATION:Balboa Park
UID:e.784.-161
SEQUENCE:3
DTSTAMP:20260424T192545Z
URL:https://chamber.sdbusinesschamber.com/events/details/san-diego-science-festival-expo-day-the-science-of-you-04-04-2009
END:VEVENT

END:VCALENDAR
