BEGIN:VCALENDAR
VERSION:2.0
PRODID:-//ChamberMaster//Event Calendar 2.0//EN
METHOD:PUBLISH
X-PUBLISHED-TTL:P3D
REFRESH-INTERVAL:P3D
CALSCALE:GREGORIAN
BEGIN:VEVENT
DTSTART:20200923T180000Z
DTEND:20200923T190000Z
X-MICROSOFT-CDO-ALLDAYEVENT:FALSE
SUMMARY:San Diego Oasis and Meals on Wheels present a 2020 Mayoral Town Hall
DESCRIPTION:In a rare\, virtual\, interactive dialogue\, San Diego Mayoral Candidates Barbara Bry and Todd Gloria join us to talk about issues that matter to seniors.  With the election just weeks away\, come learn more about these candidates.  Sponsored by San Diego Oasis and Meals on Wheels.
X-ALT-DESC;FMTTYPE=text/html:In a rare\, virtual\, interactive dialogue\, San Diego Mayoral Candidates Barbara Bry and Todd Gloria join us to talk about issues that matter to seniors.&nbsp\; With the election just weeks away\, come learn more about these candidates.&nbsp\; Sponsored by San Diego Oasis and Meals on Wheels.
LOCATION:Register at http://www.sandiegooasis.org
UID:e.784.26231
SEQUENCE:3
DTSTAMP:20260425T210435Z
URL:https://chamber.sdbusinesschamber.com/events/details/san-diego-oasis-and-meals-on-wheels-present-a-2020-mayoral-town-hall-26231
END:VEVENT

END:VCALENDAR
