BEGIN:VCALENDAR
VERSION:2.0
PRODID:-//ChamberMaster//Event Calendar 2.0//EN
METHOD:PUBLISH
X-PUBLISHED-TTL:P3D
REFRESH-INTERVAL:P3D
CALSCALE:GREGORIAN
BEGIN:VEVENT
DTSTART:20121115T010000Z
DTEND:20121115T030000Z
X-MICROSOFT-CDO-ALLDAYEVENT:FALSE
SUMMARY:San Diego North County Spotlight
DESCRIPTION:SDG&E in collaboration with North County Chambers of Commerce: Bonsall\, Borrego Springs\, Carlsbad\, Encinitas\, Escondido Fallbrook\, Julian\, Poway\, Ramona\, San Diego Coastal\, San Diego North\, San Marcos\, Solana Beach\, Oceanside\, Valley Center\, Vista and the San Diego North Economic Development Council are hosting a San Diego North County Community Spotlight. \n\n \n\n   Meet SDG&E's President & Chief Operating Officer Mike Niggli\n\n \n\n   Interact with chambers of commerce/EDC members and officers\, community leaders\, elected officials and staff\, city staffs\, SDG&E experts\n\n \n\nSDG&E will be showcasing an incredible array of programs and projects that are beneficial to residents\, commercial and industry\, educational institutions\, small and large businesses   any entity that uses electricity and gas. \n\n \n\nYou will be able to visit the booths\, ask questions and in some instances have a hands-on experience. \n\nTo name a few of the program and project experts who will be available:\n\n \n\no   Advanced efficiency approaches and the path to sustainability\n\no   Clean Transportation - Chevy Volt will be on display\n\no   Fire Coordination and Preparedness\n\no   Gas Safety\n\no   Home Area Network\n\no   Human Resources (staffing) \n\no   Lighting and conservation\n\no   New construction's new solar homes partnership\n\no   Online energy management tools\n\no   Rebates and incentives\n\no   Reduce your use\n\no   Savings by Design\n\no   Smart Energy Solutions\n\no   Smart Meter\n\no   Smart Phone Apps\n\no   Vegetation Management\n\no   Weather Network   SDG&E has the 3rd largest non-government network in US\n\n \n\nNow what could be better than a one-stop shop event for learning and experiencing? \n\n \n\nAs an added bonus you will have the opportunity to nominate a North County based 501 (c) (3) charity that provides families with food\, shelter and support services to make the community a better place to live or work.   \n\n \n\nPlease don't miss this.
X-ALT-DESC;FMTTYPE=text/html:SDG&amp\;E in collaboration with North County Chambers of Commerce: Bonsall\, Borrego Springs\, Carlsbad\, Encinitas\, Escondido Fallbrook\, Julian\, Poway\, Ramona\, San Diego Coastal\, San Diego North\, San Marcos\, Solana Beach\, Oceanside\, Valley Center\, Vista and the San Diego North Economic Development Council are hosting a <em>San Diego North County Community Spotlight</em>.&nbsp\;<br />\n&nbsp\;<br />\n<span style="font-family:wingdings\;">&uuml\;&nbsp\; </span>Meet SDG&amp\;E&rsquo\;s President &amp\; Chief Operating Officer Mike Niggli<br />\n&nbsp\;<br />\n<span style="font-family:wingdings\;">&uuml\;&nbsp\; </span>Interact with chambers of commerce/EDC members and officers\, community leaders\, elected officials and staff\, city staffs\, SDG&amp\;E experts<br />\n&nbsp\;<br />\nSDG&amp\;E will be showcasing an incredible array of programs and projects that are beneficial to residents\, commercial and industry\, educational institutions\, small and large businesses &ndash\; any entity that uses electricity and gas.&nbsp\;<br />\n&nbsp\;<br />\nYou will be able to visit the booths\, ask questions and in some instances have a hands-on experience.&nbsp\;<br />\nTo name a few of the program and project experts who will be available:<br />\n&nbsp\;<br />\n<span style="font-family:courier new\;">o&nbsp\;&nbsp\; </span>Advanced efficiency approaches and the path to sustainability<br />\n<span style="font-family:courier new\;">o&nbsp\;&nbsp\; </span>Clean Transportation - Chevy Volt will be on display<br />\n<span style="font-family:courier new\;">o&nbsp\;&nbsp\; </span>Fire Coordination and Preparedness<br />\n<span style="font-family:courier new\;">o&nbsp\;&nbsp\; </span>Gas Safety<br />\n<span style="font-family:courier new\;">o&nbsp\;&nbsp\; </span>Home Area Network<br />\n<span style="font-family:courier new\;">o&nbsp\;&nbsp\; </span>Human Resources (staffing)&nbsp\;<br />\n<span style="font-family:courier new\;">o&nbsp\;&nbsp\; </span>Lighting and conservation<br />\n<span style="font-family:courier new\;">o&nbsp\;&nbsp\; </span>New construction&rsquo\;s new solar homes partnership<br />\n<span style="font-family:courier new\;">o&nbsp\;&nbsp\; </span>Online energy management tools<br />\n<span style="font-family:courier new\;">o&nbsp\;&nbsp\; </span>Rebates and incentives<br />\n<span style="font-family:courier new\;">o&nbsp\;&nbsp\; </span>Reduce your use<br />\n<span style="font-family:courier new\;">o&nbsp\;&nbsp\; </span>Savings by Design<br />\n<span style="font-family:courier new\;">o&nbsp\;&nbsp\; </span>Smart Energy Solutions<br />\n<span style="font-family:courier new\;">o&nbsp\;&nbsp\; </span>Smart Meter<br />\n<span style="font-family:courier new\;">o&nbsp\;&nbsp\; </span>Smart Phone Apps<br />\n<span style="font-family:courier new\;">o&nbsp\;&nbsp\; </span>Vegetation Management<br />\n<span style="font-family:courier new\;">o&nbsp\;&nbsp\; </span>Weather Network &ndash\; SDG&amp\;E has the 3<sup>rd</sup> largest non-government network in US<br />\n&nbsp\;<br />\nNow what could be better than a one-stop shop event for learning and experiencing?&nbsp\;<br />\n&nbsp\;<br />\nAs an added bonus you will have the opportunity to nominate a North County based 501 (c) (3) charity that provides families with food\, shelter and support services to make the community a better place to live or work.&nbsp\;&nbsp\;&nbsp\;<br />\n&nbsp\;<br />\nPlease don&rsquo\;t miss this.&nbsp\; 
LOCATION:California Center for the Arts Escondido 340 North Escondido Boulevard Escondido
UID:e.784.2723
SEQUENCE:3
DTSTAMP:20260422T063032Z
URL:https://chamber.sdbusinesschamber.com/events/details/san-diego-north-county-spotlight-11-14-2012-2723
END:VEVENT

END:VCALENDAR
