BEGIN:VCALENDAR
VERSION:2.0
PRODID:-//ChamberMaster//Event Calendar 2.0//EN
METHOD:PUBLISH
X-PUBLISHED-TTL:P3D
REFRESH-INTERVAL:P3D
CALSCALE:GREGORIAN
BEGIN:VEVENT
DTSTART:20130124T170000Z
DTEND:20130124T200000Z
X-MICROSOFT-CDO-ALLDAYEVENT:FALSE
SUMMARY:San Diego North Chamber Career Fair
DESCRIPTION:San Diego North Chamber Career Fair and Professional Growth Workshops\nTake this opportunity to meet potential employees/employers face to face. The day will include:\n\n	\n		Employers of all sizes and industries\n	\n		Resume refining workshops\n	\n		Interview skills workshops\n	\n		Professional dress tips for the interview\n	\n		Military transition employment\n\n\n	Employer tables include:\n\n	\n		8 foot Table with linen\n	\n		2 Chairs\n	\n		Logo on screen\n	\n		Wi-Fi Access
X-ALT-DESC;FMTTYPE=text/html:<h3>\n	<span style="font-size:14px\;"><span style="font-family: arial\; ">San Diego North Chamber Career Fair and Professional Growth Workshops</span></span></h3>\n<span style="font-size:12px\;"><span style="font-family: arial\; "><strong>Take this opportunity to meet potential employees/employers face to face. The day will include</strong>:</span></span>\n<ul>\n	<li>\n		<span style="font-size:12px\;"><span style="font-family: arial\; ">Employers of all sizes and industries</span></span></li>\n	<li>\n		<span style="font-size:12px\;"><span style="font-family: arial\; ">Resume refining workshops</span></span></li>\n	<li>\n		<span style="font-size:12px\;"><span style="font-family: arial\; ">Interview skills workshops</span></span></li>\n	<li>\n		<span style="font-size:12px\;"><span style="font-family: arial\; ">Professional dress tips for the interview</span></span></li>\n	<li>\n		<span style="font-size:12px\;"><span style="font-family: arial\; ">Military transition employment</span></span></li>\n</ul>\n<div>\n	<strong style="font-family: arial\; font-size: 12px\; ">Employer tables include:</strong></div>\n<ul>\n	<li>\n		<span style="font-size:12px\;"><span style="font-family: arial\; ">8 foot Table with linen</span></span></li>\n	<li>\n		<span style="font-size:12px\;"><span style="font-family: arial\; ">2 Chairs</span></span></li>\n	<li>\n		<span style="font-size:12px\;"><span style="font-family: arial\; ">Logo on screen</span></span></li>\n	<li>\n		<span style="font-size:12px\;"><span style="font-family: arial\; ">Wi-Fi Access</span></span></li>\n</ul>\n
LOCATION:Rancho Bernardo Inn 17550 Bernardo Oaks Dr San Diego\, CA 92128
UID:e.784.2675
SEQUENCE:3
DTSTAMP:20260422T031412Z
URL:https://chamber.sdbusinesschamber.com/events/details/san-diego-north-chamber-career-fair-01-24-2013-2675
END:VEVENT

END:VCALENDAR
