BEGIN:VCALENDAR
VERSION:2.0
PRODID:-//ChamberMaster//Event Calendar 2.0//EN
METHOD:PUBLISH
X-PUBLISHED-TTL:P3D
REFRESH-INTERVAL:P3D
CALSCALE:GREGORIAN
BEGIN:VEVENT
DTSTART:20120331T153000Z
DTEND:20120331T190000Z
X-MICROSOFT-CDO-ALLDAYEVENT:FALSE
SUMMARY:San Diego Hospice Melisa & Kaye's Memorial 5K Walk and Fun Run
DESCRIPTION:San Diego Hospice and The Institute for Palliative Medicine (SDHIPM) is honored to present the Melisa & Kaye's Memorial 5K Walk and Fun Run on March 31\, 2012. This event celebrates the lives of loved ones past and present\, as well as those directly impacted by hospice and palliative medicine programs throughout San Diego County. In addition to the walk and fun run\, the festivities include an interactive health fair\, kids' activities and live music. The goal of the event is to bring people together and create awareness about San Diego Hospice and the unique services we provide. The event is a lasting legacy established by Richard and Kaye Woltman. Event Chair is Marty Pendarvis and Master of Ceremonies is Carlo Cecchetto\, Anchor\, CBS 8 Local News. More info or to signup online is at http://www.sdhospice.org/walk
X-ALT-DESC;FMTTYPE=text/html:<strong>San Diego Hospice and The Institute for Palliative Medicine (SDHIPM) is honored to present the Melisa &amp\; Kaye&rsquo\;s Memorial 5K Walk and Fun Run on March 31\, 2012. </strong>This event celebrates the lives of loved ones past and present\, as well as those directly impacted by hospice and palliative medicine programs throughout San Diego County. In addition to the walk and fun run\,<strong> the festivities include an interactive health fair\, kids&rsquo\; activities and live music.</strong> The goal of the event is to bring people together and create awareness about San Diego Hospice and the unique services we provide. <strong>The event is a lasting legacy established by Richard and Kaye Woltman. Event Chair is Marty Pendarvis and Master of Ceremonies is Carlo Cecchetto\, Anchor\, CBS 8 Local News.</strong> More info or to signup online is at http://www.sdhospice.org/walk 
LOCATION:NTC Park at Liberty Station in Point Loma Need directions? Click on link for a map: http://www.mapquest.com/maps?address=2455+Cushing+Rd&city=San+Diego&state=CA&zipcode=92106
UID:e.784.2598
SEQUENCE:3
DTSTAMP:20260422T191024Z
URL:https://chamber.sdbusinesschamber.com/events/details/san-diego-hospice-melisa-kaye-s-memorial-5k-walk-and-fun-run-03-31-2012-2598
END:VEVENT

END:VCALENDAR
