BEGIN:VCALENDAR
VERSION:2.0
PRODID:-//ChamberMaster//Event Calendar 2.0//EN
METHOD:PUBLISH
X-PUBLISHED-TTL:P3D
REFRESH-INTERVAL:P3D
CALSCALE:GREGORIAN
BEGIN:VEVENT
DTSTART:20120602T160000Z
DTEND:20120602T190000Z
X-MICROSOFT-CDO-ALLDAYEVENT:FALSE
SUMMARY:San Diego Hospice hosts Free Workshop Advance Care Planning
DESCRIPTION:San Diego Hospice and The Institute for Palliative Medicine invites the community to a free workshop "A Roadmap to Health Care Decision Making" on Saturday\, June 2 from 9:00 a.m. to 12:00 noon. Family members\, caregivers and anyone in the community impacted by chronic or serious illness are encouraged to attend and learn how to ensure that your healthcare wishes are met\, especially when you are unable to advocate for yourself.\n\n	Medical and Legal Experts will discuss\n\n	\n		Advance Directives\n	\n		POLST\n	\n		Durable Power of Attorney for Healthcare\n	\n		Getting your legal affairs in order\n	\n		Q&A Panel with Presenters\n\n\n	Registration\, continental breakfast and resource tables will begin at 9:00 a.m. and the program will start promptly at 9:20 a.m.\n\n	Registration is required for this free workshop\; seating is limited. Register today via email to info@sdhospice.org or call 619-278-6141 and include your name\, contact number\, and the number of people in your party.
X-ALT-DESC;FMTTYPE=text/html:<p style="margin-top: 10px\; margin-right: 0px\; margin-bottom: 10px\; margin-left: 0px\; line-height: 20px\; color: rgb(0\, 0\, 0)\; font-family: Helvetica\, Arial\, sans-serif\; ">\n	San Diego Hospice and The Institute for Palliative Medicine invites the community to a free workshop&nbsp\;<strong>&quot\;A Roadmap to Health Care Decision Making&quot\; on Saturday\, June 2 from 9:00 a.m. to 12:00 noon.&nbsp\;</strong>Family members\, caregivers and anyone in the community impacted by chronic or serious illness are encouraged to attend and learn how to ensure that your healthcare wishes are met\, especially when you are unable to advocate for yourself.</p>\n<p style="margin-top: 10px\; margin-right: 0px\; margin-bottom: 10px\; margin-left: 0px\; line-height: 20px\; color: rgb(0\, 0\, 0)\; font-family: Helvetica\, Arial\, sans-serif\; ">\n	Medical and Legal Experts will discuss</p>\n<ul style="color: rgb(0\, 0\, 0)\; font-family: Helvetica\, Arial\, sans-serif\; ">\n	<li>\n		Advance Directives</li>\n	<li>\n		POLST</li>\n	<li>\n		Durable Power of Attorney for Healthcare</li>\n	<li>\n		Getting your legal affairs in order</li>\n	<li>\n		Q&amp\;A Panel with Presenters</li>\n</ul>\n<p style="margin-top: 10px\; margin-right: 0px\; margin-bottom: 10px\; margin-left: 0px\; line-height: 20px\; color: rgb(0\, 0\, 0)\; font-family: Helvetica\, Arial\, sans-serif\; ">\n	Registration\, continental breakfast and resource tables will begin at 9:00 a.m. and the program will start promptly at 9:20 a.m.</p>\n<p style="margin-top: 10px\; margin-right: 0px\; margin-bottom: 10px\; margin-left: 0px\; line-height: 20px\; color: rgb(0\, 0\, 0)\; font-family: Helvetica\, Arial\, sans-serif\; ">\n	Registration is required for this free workshop\; seating is limited.&nbsp\;<strong>Register today via email to&nbsp\;<a href="mailto:info@sdhospice.org?subject=Registration%20for%20June%202%20free%20workshop%20on%20Health%20Care%20Decision%20Making&amp\;body=Please%20include%20in%20your%20RSVP%3A%0AYour%20First%20and%20Last%20Name%0ANumber%20of%20people%20of%20attending%20in%20your%20party%0APreferred%20contact%20(if%20other%20than%20your%20email%20address)%0A%0AThank%20you.%0A" style="color: rgb(0\, 80\, 45)\; ">info@sdhospice.org</a>&nbsp\;or call 619-278-6141 and include your name\, contact number\, and the number of people in your party.</strong></p>\n
LOCATION:San Diego Hospice W.M. Keck Conference Center - 4311 Third Ave\, San Diego\, CA 92103
UID:e.784.2650
SEQUENCE:3
DTSTAMP:20260422T140601Z
URL:https://chamber.sdbusinesschamber.com/events/details/san-diego-hospice-hosts-free-workshop-advance-care-planning-06-02-2012-2650
END:VEVENT

END:VCALENDAR
