BEGIN:VCALENDAR
VERSION:2.0
PRODID:-//ChamberMaster//Event Calendar 2.0//EN
METHOD:PUBLISH
X-PUBLISHED-TTL:P3D
REFRESH-INTERVAL:P3D
CALSCALE:GREGORIAN
BEGIN:VEVENT
DTSTART:20121004T030000Z
DTEND:20121004T060000Z
X-MICROSOFT-CDO-ALLDAYEVENT:FALSE
SUMMARY:San Diego Economic Forecast Conference
DESCRIPTION:2012 San Diego Economic Forecast Conference - The Election and California's Fiscal Future\n\n\n\nJoin some of California's most renowned economists and fiscal leaders for the 5th annual San Diego Economic Forecast Conference
X-ALT-DESC;FMTTYPE=text/html:2012 San Diego Economic Forecast Conference - The Election and California&#39\;s Fiscal Future<br />\n<br />\nJoin some of California&#39\;s most renowned economists and fiscal leaders for the 5th annual San Diego Economic Forecast Conference<br />\n
LOCATION:Hilton San Diego Bayfront
UID:e.784.2684
SEQUENCE:3
DTSTAMP:20260422T075702Z
URL:https://chamber.sdbusinesschamber.com/events/details/san-diego-economic-forecast-conference-10-03-2012-2684
END:VEVENT

END:VCALENDAR
