BEGIN:VCALENDAR
VERSION:2.0
PRODID:-//ChamberMaster//Event Calendar 2.0//EN
METHOD:PUBLISH
X-PUBLISHED-TTL:P3D
REFRESH-INTERVAL:P3D
CALSCALE:GREGORIAN
BEGIN:VEVENT
DTSTART:20121209T230000Z
DTEND:20121210T003000Z
X-MICROSOFT-CDO-ALLDAYEVENT:FALSE
SUMMARY:San Diego Children's Choir Holiday Concert and Community Sing-along
DESCRIPTION:The San Diego Children's Choir (SDCC) holiday performance includes Benjamin Britten's imaginative choral work A Ceremony of Carols and traditional classics for the audience to sing-along to such as Joy to the World\, Dreidel\, Silent Night and more. Tickets are $10 for adults\, $5 for children. Visit www.sdcchoir.org for ticket information.
X-ALT-DESC;FMTTYPE=text/html:The San Diego Children&rsquo\;s Choir (SDCC) holiday performance includes Benjamin Britten&rsquo\;s imaginative choral work <em>A Ceremony of Carols</em> and traditional classics for the audience to sing-along to such as <em>Joy to the World</em>\, <em>Dreidel</em>\, <em>Silent Night</em> and more. Tickets are $10 for adults\, $5 for children. Visit <strong>www.sdcchoir.org</strong> for ticket information.
LOCATION:First United Methodist Church of San Diego\, 2111 Camino Del Rio South\, San Diego\, 92108
UID:e.784.2728
SEQUENCE:3
DTSTAMP:20260422T045821Z
URL:https://chamber.sdbusinesschamber.com/events/details/san-diego-children-s-choir-holiday-concert-and-community-sing-along-12-09-2012-2728
END:VEVENT

END:VCALENDAR
