BEGIN:VCALENDAR
VERSION:2.0
PRODID:-//ChamberMaster//Event Calendar 2.0//EN
METHOD:PUBLISH
X-PUBLISHED-TTL:P3D
REFRESH-INTERVAL:P3D
CALSCALE:GREGORIAN
BEGIN:VEVENT
DTSTART:20210325T210000Z
DTEND:20210325T223000Z
X-MICROSOFT-CDO-ALLDAYEVENT:FALSE
SUMMARY:San Diego Business Journal's - CFO of the Year
DESCRIPTION:San Diego Business Journal's - CFO of the Year\n\n\n\nNominations - https://cbj.formstack.com/forms/2021_cfo_of_the_year
X-ALT-DESC;FMTTYPE=text/html:<br />\nSan Diego Business Journal&#39\;s - CFO of the Year<br />\n<br />\n<span style="color: rgb(51\, 51\, 51)\; background-color: rgb(255\, 255\, 255)\; font-family: Calibri\, sans-serif\; font-size: 14.6667px\;"><strong>Nominations</strong>&nbsp\;-&nbsp\;</span><a href="https://cbj.formstack.com/forms/2021_cfo_of_the_year" style="color: rgb(7\, 130\, 193)\; font: inherit\; margin: 0px\; padding: 0px\; border: 0px\; vertical-align: baseline\;">https://cbj.formstack.com/forms/2021_cfo_of_the_year</a><br />\n&nbsp\;
LOCATION:Registration - https://app.greenrope.com/publicCalendar2.pl?Cal=f1226ddedd4f32edda1519d7decc729a&Event=108
UID:e.784.27240
SEQUENCE:3
DTSTAMP:20260425T130401Z
URL:https://chamber.sdbusinesschamber.com/events/details/san-diego-business-journal-s-cfo-of-the-year-27240
END:VEVENT

END:VCALENDAR
