BEGIN:VCALENDAR
VERSION:2.0
PRODID:-//ChamberMaster//Event Calendar 2.0//EN
METHOD:PUBLISH
X-PUBLISHED-TTL:P3D
REFRESH-INTERVAL:P3D
CALSCALE:GREGORIAN
BEGIN:VEVENT
DTSTART:20130215T193000Z
DTEND:20130215T213000Z
X-MICROSOFT-CDO-ALLDAYEVENT:FALSE
SUMMARY:Romance Is In the Air: Relationships in the Workplace
DESCRIPTION:It's not uncommon for employers to have policies that restrict and even prohibit certain relationships in the workplace.   Such relationships can cause a plethora of problems that can range from favoritism and harassment to breach of confidential information and terminations\n\n	As an employer\, how much control do you have over these relationships?  What can you and what can you not control as far as your employee's personal lives are concerned?\n\n	This roundtable will address real-life situations and give you some real-life solutions.  Practical policy solutions will also be addressed.\n\n	Date: February 15\, 2013\n\n	Time: 11:30am   1:30pm lunch included\n\n	Speaker: Emily Fox\, Paul Plevin Sullivan & Connaughton\n\n	Location: SDEA Training Facility\n\n	Cost: Members: $35.00\n\n	Nonmembers: $45.00
X-ALT-DESC;FMTTYPE=text/html:<p class="MsoNormal">\n	It&rsquo\;s not uncommon for employers to have policies that restrict and even prohibit certain relationships in the workplace.&nbsp\;&nbsp\; Such relationships can cause a plethora of problems that can range from favoritism and harassment to breach of confidential information and terminations<o:p></o:p></p>\n<p class="MsoNormal">\n	As an employer\, how much control do you have over these relationships?&nbsp\; What can you and what can you not control as far as your employee&rsquo\;s personal lives are concerned?<o:p></o:p></p>\n<p class="MsoNormal">\n	This roundtable will address real-life situations and give you some real-life solutions.&nbsp\; Practical policy solutions will also be addressed.<o:p></o:p></p>\n<p class="MsoNormal">\n	Date: February 15\, 2013<o:p></o:p></p>\n<p class="MsoNormal">\n	Time: 11:30am &ndash\; 1:30pm lunch included<o:p></o:p></p>\n<p class="MsoNormal">\n	Speaker: Emily Fox\, Paul Plevin Sullivan &amp\; Connaughton<o:p></o:p></p>\n<p class="MsoNormal">\n	Location: SDEA Training Facility<o:p></o:p></p>\n<p class="MsoNormal">\n	Cost: Members: $35.00<o:p></o:p></p>\n<p class="MsoNormal">\n	Nonmembers: $45.00<o:p></o:p></p>\n
LOCATION:4180 Ruffin Road Suite 295 San Diego\, CA 92123
UID:e.784.2837
SEQUENCE:3
DTSTAMP:20260422T015158Z
URL:https://chamber.sdbusinesschamber.com/events/details/romance-is-in-the-air-relationships-in-the-workplace-02-15-2013-2837
END:VEVENT

END:VCALENDAR
