BEGIN:VCALENDAR
VERSION:2.0
PRODID:-//ChamberMaster//Event Calendar 2.0//EN
METHOD:PUBLISH
X-PUBLISHED-TTL:P3D
REFRESH-INTERVAL:P3D
CALSCALE:GREGORIAN
BEGIN:VEVENT
DTSTART:20131012T030000Z
DTEND:20131012T050000Z
X-MICROSOFT-CDO-ALLDAYEVENT:FALSE
SUMMARY:Roger McGuinn and Marty Stuart with The Fabulous Superlatives
DESCRIPTION:Normal\n  0\n  \n  \n  false\n  false\n  false\n  \n   \n   \n   \n   \n   \n  \n  MicrosoftInternetExplorer4\n \n\n\n	What do you get when you mix the Byrds' signature 12-String "chime\," one of country music's most celebrated pickers\, toss in some of country-rock's most beloved anthems and back it up with a road-seasoned band?  A dream concert for fans of the SoCal Country Rock sound\, and an evening of music history.  Byrds founder and Rock and Roll Hall of Fame inductee Roger McGuinn takes the stage with five-time Grammy Award winner Marty Stuart and his Fabulous Superlatives to perform Byrd's classics ("Mr. Tambourine Man\," "You Ain't Going Nowhere" and "Turn\, Turn\, Turn") as well as personal favorites from both Roger and Marty.  A concert borne out of Stuart's weekly TV show\, "The Marty Stuart Show\," this concert brings a bit of the Grand Ol' Opry and the '60s Sunset Strip to Poway. \n\n	 \n\n	Presented in part by Chicago Title.\n\n	 \n\n \n \n\n\nst1\\:*{behavior:url(#ieooui) }\n\n\n\n /* Style Definitions */\n table.MsoNormalTable\n	{mso-style-name:"Table Normal"\;\n	mso-tstyle-rowband-size:0\;\n	mso-tstyle-colband-size:0\;\n	mso-style-noshow:yes\;\n	mso-style-parent:""\;\n	mso-padding-alt:0in 5.4pt 0in 5.4pt\;\n	mso-para-margin:0in\;\n	mso-para-margin-bottom:.0001pt\;\n	mso-pagination:widow-orphan\;\n	font-size:10.0pt\;\n	font-family:"Times New Roman"\;\n	mso-ansi-language:#0400\;\n	mso-fareast-language:#0400\;\n	mso-bidi-language:#0400\;}
X-ALT-DESC;FMTTYPE=text/html:<!--[if gte mso 9]><xml>\n <w:WordDocument>\n  <w:View>Normal</w:View>\n  <w:Zoom>0</w:Zoom>\n  <w:PunctuationKerning/>\n  <w:ValidateAgainstSchemas/>\n  <w:SaveIfXMLInvalid>false</w:SaveIfXMLInvalid>\n  <w:IgnoreMixedContent>false</w:IgnoreMixedContent>\n  <w:AlwaysShowPlaceholderText>false</w:AlwaysShowPlaceholderText>\n  <w:Compatibility>\n   <w:BreakWrappedTables/>\n   <w:SnapToGridInCell/>\n   <w:WrapTextWithPunct/>\n   <w:UseAsianBreakRules/>\n   <w:DontGrowAutofit/>\n  </w:Compatibility>\n  <w:BrowserLevel>MicrosoftInternetExplorer4</w:BrowserLevel>\n </w:WordDocument>\n</xml><![endif]-->\n<p class="MsoNormal" style="mso-layout-grid-align:none\;text-autospace:none">\n	<span style="font-size:11.0pt\;font-family:Calibri\;mso-bidi-font-family:Nyala-Regular">What do you get when you mix the Byrds&rsquo\; signature 12-String &ldquo\;chime\,&rdquo\; one of country music&rsquo\;s most celebrated pickers\, toss in some of country-rock&rsquo\;s most beloved anthems and back it up with a road-seasoned band?<span style="mso-spacerun:yes">&nbsp\; </span>A dream concert for fans of the SoCal Country Rock sound\, and an evening of music history.<span style="mso-spacerun:yes">&nbsp\; </span>Byrds founder and Rock and Roll Hall of Fame inductee <b style="mso-bidi-font-weight:normal">Roger McGuinn</b> takes the stage with five-time Grammy Award winner <b style="mso-bidi-font-weight:normal">Marty Stuart</b> and his Fabulous Superlatives to perform Byrd&rsquo\;s classics (&ldquo\;Mr. Tambourine Man\,&rdquo\; &ldquo\;You Ain&rsquo\;t Going Nowhere&rdquo\; and &ldquo\;Turn\, Turn\, Turn&rdquo\;) as well as personal favorites from both Roger and Marty.<span style="mso-spacerun:yes">&nbsp\; </span>A concert borne out of Stuart&rsquo\;s weekly TV show\, &ldquo\;The Marty Stuart Show\,&rdquo\; this concert brings a bit of the Grand Ol&rsquo\; Opry and the &lsquo\;60s Sunset Strip to Poway. </span></p>\n<p class="MsoNormal" style="line-height:115%">\n	<span style="font-size:11.0pt\;\nline-height:115%\;font-family:Calibri\;mso-bidi-font-family:Nyala-Regular">&nbsp\;</span></p>\n<p class="MsoNormal" style="line-height:115%">\n	<span style="font-size:11.0pt\;\nline-height:115%\;font-family:Calibri\;mso-bidi-font-family:Nyala-Regular">Presented in part by </span><span style="font-size:11.0pt\;line-height:115%\;font-family:\nCalibri\;mso-no-proof:yes">Chicago Title.</span></p>\n<p class="MsoNormal" style="line-height:115%">\n	<span style="font-size:11.0pt\;\nline-height:115%\;font-family:Calibri\;mso-no-proof:yes">&nbsp\;</span></p>\n<!--[if gte mso 9]><xml>\n <w:LatentStyles DefLockedState="false" LatentStyleCount="156">\n </w:LatentStyles>\n</xml><![endif]--><!--[if !mso]><object\n classid="clsid:38481807-CA0E-42D2-BF39-B33AF135CC4D" id=ieooui></object>\n<style>\nst1\\:*{behavior:url(#ieooui) }\n</style>\n<![endif]--><!--[if gte mso 10]>\n<style>\n /* Style Definitions */\n table.MsoNormalTable\n	{mso-style-name:"Table Normal"\;\n	mso-tstyle-rowband-size:0\;\n	mso-tstyle-colband-size:0\;\n	mso-style-noshow:yes\;\n	mso-style-parent:""\;\n	mso-padding-alt:0in 5.4pt 0in 5.4pt\;\n	mso-para-margin:0in\;\n	mso-para-margin-bottom:.0001pt\;\n	mso-pagination:widow-orphan\;\n	font-size:10.0pt\;\n	font-family:"Times New Roman"\;\n	mso-ansi-language:#0400\;\n	mso-fareast-language:#0400\;\n	mso-bidi-language:#0400\;}\n</style>\n<![endif]-->
LOCATION:Poway Center for the Performing Arts 15498 Espola Road Poway\, CA 92064
UID:e.784.2911
SEQUENCE:3
DTSTAMP:20260421T130450Z
URL:https://chamber.sdbusinesschamber.com/events/details/roger-mcguinn-and-marty-stuart-with-the-fabulous-superlatives-10-11-2013-2911
END:VEVENT

END:VCALENDAR
