BEGIN:VCALENDAR
VERSION:2.0
PRODID:-//ChamberMaster//Event Calendar 2.0//EN
METHOD:PUBLISH
X-PUBLISHED-TTL:P3D
REFRESH-INTERVAL:P3D
CALSCALE:GREGORIAN
BEGIN:VEVENT
DTSTART:20110522T030000Z
DTEND:20110522T080000Z
X-MICROSOFT-CDO-ALLDAYEVENT:FALSE
SUMMARY:Rockin For The Warrior Foundation
DESCRIPTION:In collaboration with Kaminski's Sports Lounge\, Fireball Whisky and the Armed Forces Dispatch\, 5 Miles High\, San Diego's Premier Classic Rock Cover Band is hosting a "Rockin' For The Warrior Foundation" event on May 21\, 2011. Proceeds from the event go directly to the Warrior Foundation in San Diego. Our goal is to raise awareness and show support for our heroes in San Diego. The event will take place at Kamisnki's in Poway and there will be opportunity drawings through out the evening. Tickets to the event are $10 and includes a drawing ticket.\n\n	\n\n	Come join us at Kaminski's Sports Lounge located at 12735 Poway Road in Poway and show your support for our warriors on May 21st at 8:00pm. Kaminski's is providing complentary valet service for the evening.
X-ALT-DESC;FMTTYPE=text/html:<p>\n	In collaboration with Kaminski&#39\;s Sports Lounge\, Fireball Whisky and the Armed Forces Dispatch\, 5 Miles High\, San Diego&#39\;s Premier Classic Rock Cover Band is hosting a &quot\;Rockin&#39\; For The Warrior Foundation&quot\; event on May 21\, 2011. Proceeds from the event go directly to the Warrior Foundation in San Diego. Our goal is to raise awareness and show support for our heroes in San Diego. The event will take place at Kamisnki&#39\;s in Poway and there will be opportunity drawings through out the evening. Tickets to the event are $10 and includes a drawing ticket.<br />\n	<br />\n	Come join us at Kaminski&#39\;s Sports Lounge located at 12735 Poway Road in Poway and show your support for our warriors on May 21st at 8:00pm. Kaminski&#39\;s is providing complentary valet service for the evening.</p>\n
LOCATION:Kaminski's Sports Lounge 12735 Poway Road\, Poway
UID:e.784.2292
SEQUENCE:3
DTSTAMP:20260423T100834Z
URL:https://chamber.sdbusinesschamber.com/events/details/rockin-for-the-warrior-foundation-05-21-2011-2292
END:VEVENT

END:VCALENDAR
