BEGIN:VCALENDAR
VERSION:2.0
PRODID:-//ChamberMaster//Event Calendar 2.0//EN
METHOD:PUBLISH
X-PUBLISHED-TTL:P3D
REFRESH-INTERVAL:P3D
CALSCALE:GREGORIAN
BEGIN:VEVENT
DTSTART;VALUE=DATE:20201117
DTEND;VALUE=DATE:20201118
TRANSP:TRANSPARENT
X-MICROSOFT-CDO-ALLDAYEVENT:TRUE
SUMMARY:Rise Above the Chaos for Health Professionals & Leaders
DESCRIPTION:Creative Life Solutions has partnered with Trinity School of Natural Health \n\nfor this 7 Week Rise Above the Chaos for Health Professionals Event.  During this Intensive Mastermind Webinar Series Participants will:\n\n	Get a Leadership Assessment to Determine their Management Style\n	Reset Optimist to Impact your Clients and Team\n	Redefine Your Approach in a Post COVID Environment\n	Explore Marketing Messages and Opportunities with New NOW Online Solutions\n	Learn the Chaos Trilogy and How to Manage External vs. Internal Events\n	Self Care Solutions for the Shifting Work Environment & World
X-ALT-DESC;FMTTYPE=text/html:<span style="background-color:rgb(250\, 250\, 250)\; color:rgb(66\, 66\, 66)\; font-family:arial\,helvetica\,sans-serif\; font-size:12px">Creative Life Solutions has partnered with Trinity School of Natural Health&nbsp\;</span><br />\n<span style="background-color:rgb(250\, 250\, 250)\; color:rgb(66\, 66\, 66)\; font-family:arial\,helvetica\,sans-serif\; font-size:12px">for this 7 Week Rise Above the Chaos for Health Professionals Event.&nbsp\; During this Intensive Mastermind Webinar Series Participants will:</span>\n<ul>\n	<li>Get a Leadership Assessment to Determine their Management Style</li>\n	<li>Reset Optimist to Impact your Clients and Team</li>\n	<li>Redefine Your Approach in a Post COVID Environment</li>\n	<li>Explore Marketing Messages and Opportunities with New NOW Online Solutions</li>\n	<li>Learn the Chaos Trilogy and How to Manage External vs. Internal Events</li>\n	<li>Self Care Solutions for the Shifting Work Environment &amp\; World&nbsp\;</li>\n</ul>\n
LOCATION:Online 7 Week Series to Help Leaders Redefine their Strategies to Manage Stress in the Workplace. With all the changes in Work Environments and Managing Tele-Health\, this series will help Keep Teams Connecting with Clients and each other in a Virtual World. Staying Purposeful\, Productive and Profitable...with this Uplifting Mastermind Series. In each of the Weekly Classes there will be modules of learning for 60 minutes with 30 minutes Interactive Q & A and Hot Seats to keep people GROWING!
UID:e.784.26538
SEQUENCE:3
DTSTAMP:20260425T195001Z
URL:https://chamber.sdbusinesschamber.com/events/details/rise-above-the-chaos-for-health-professionals-leaders-11-17-2020-26538
END:VEVENT

END:VCALENDAR
