BEGIN:VCALENDAR
VERSION:2.0
PRODID:-//ChamberMaster//Event Calendar 2.0//EN
METHOD:PUBLISH
X-PUBLISHED-TTL:P3D
REFRESH-INTERVAL:P3D
CALSCALE:GREGORIAN
BEGIN:VEVENT
DTSTART:20200917T220000Z
DTEND:20201029T113000Z
X-MICROSOFT-CDO-ALLDAYEVENT:FALSE
SUMMARY:Rise Above the Chaos for Health Professionals & Caregivers
DESCRIPTION:Creative Life Solutions has partnered with American Naturopathic Medical Association www.anma.org\n\nfor this 7 Week Rise Above the Chaos for Health Professionals Event. 20 CEU's are available upon Completion. During this Intensive Mastermind Webinar Series Participants will:\n\n	Get a Leadership Assessment to Determine their Management Style\n	Reset Optimist to Impact your Clients and Team\n	Redefine Your Approach in a Post COVID Environment\n	Explore Marketing Messages and Opportunities with New NOW Online Solutions\n	Learn the Chaos Trilogy and How to Manage External vs. Internal Events\n	 Self Care Solutions for the Tectonic Plate Shift  World
X-ALT-DESC;FMTTYPE=text/html:Creative Life Solutions has partnered with American Naturopathic Medical Association www.anma.org<br />\nfor this 7 Week Rise Above the Chaos for Health Professionals Event. 20 CEU&#39\;s are available upon Completion. During this Intensive Mastermind Webinar Series Participants will:\n<ul>\n	<li>Get a Leadership Assessment to Determine their Management Style</li>\n	<li>Reset Optimist to Impact your Clients and Team</li>\n	<li>Redefine Your Approach in a Post COVID Environment</li>\n	<li>Explore Marketing Messages and Opportunities with New NOW Online Solutions</li>\n	<li>Learn the Chaos Trilogy and How to Manage External vs. Internal Events</li>\n	<li>&nbsp\;Self Care Solutions for the Tectonic Plate Shift&nbsp\; World&nbsp\;</li>\n</ul>\n
LOCATION:ZOOM - Interactive Webinar with Q & A
UID:e.784.26237
SEQUENCE:3
DTSTAMP:20260425T210609Z
URL:https://chamber.sdbusinesschamber.com/events/details/rise-above-the-chaos-for-health-professionals-caregivers-26237
END:VEVENT

END:VCALENDAR
