BEGIN:VCALENDAR
VERSION:2.0
PRODID:-//ChamberMaster//Event Calendar 2.0//EN
METHOD:PUBLISH
X-PUBLISHED-TTL:P3D
REFRESH-INTERVAL:P3D
CALSCALE:GREGORIAN
BEGIN:VEVENT
DTSTART:20100127T080000Z
DTEND:20100127T080000Z
X-MICROSOFT-CDO-ALLDAYEVENT:FALSE
SUMMARY:Ribbon Cutting - Extreme Pizza
DESCRIPTION:
X-ALT-DESC;FMTTYPE=text/html:
LOCATION:Extreme Pizza
UID:e.784.975
SEQUENCE:3
DTSTAMP:20260424T072045Z
URL:https://chamber.sdbusinesschamber.com/events/details/ribbon-cutting-extreme-pizza-01-27-2010-975
END:VEVENT

END:VCALENDAR
