BEGIN:VCALENDAR
VERSION:2.0
PRODID:-//ChamberMaster//Event Calendar 2.0//EN
METHOD:PUBLISH
X-PUBLISHED-TTL:P3D
REFRESH-INTERVAL:P3D
CALSCALE:GREGORIAN
BEGIN:VEVENT
DTSTART:20130522T143000Z
DTEND:20130522T183000Z
X-MICROSOFT-CDO-ALLDAYEVENT:FALSE
SUMMARY:Restaurant Employment Law Update
DESCRIPTION:Content created specifically for the restaurant industry! Knowledgeable presenters and chefs from the San Diego area! Manage your workforce! Remain compliant with federal and state laws!  Proactively avoid lawsuits! Save time and money!\n\n	 \n\n	Topics to be covered:\n\n	Healthcare Reform Updates\n\n	New I-9 Forms & Immigrations\n\n	Wage & Hour Issues\n\n	Audits\n\n	Employee Handbooks\n\n	HR Best Practices\n\n	AND MORE!\n\n	 \n\n	Speakers include:\n\n	Matt Gordon\, Owner & Chef\, Urban Solace & Solace Encinitas\n\n	Linda Aguiler\, Labor Commissioner\n\n	Scott Gardner\, HR Executive\, Festivities Catering & Picnic People\n\n	Sharon Mehlman\, Immigration Attorney\n\n	AND MORE!
X-ALT-DESC;FMTTYPE=text/html:<p class="MsoNormal">\n	Content created specifically for the restaurant industry! Knowledgeable presenters and chefs from the San Diego area! Manage your workforce! Remain compliant with federal and state laws!&nbsp\; Proactively avoid lawsuits! Save time and money!<o:p></o:p></p>\n<p class="MsoNormal">\n	<o:p>&nbsp\;</o:p></p>\n<p class="MsoNormal">\n	Topics to be covered:<o:p></o:p></p>\n<p class="MsoNormal">\n	Healthcare Reform Updates<o:p></o:p></p>\n<p class="MsoNormal">\n	New I-9 Forms &amp\; Immigrations<o:p></o:p></p>\n<p class="MsoNormal">\n	Wage &amp\; Hour Issues<o:p></o:p></p>\n<p class="MsoNormal">\n	Audits<o:p></o:p></p>\n<p class="MsoNormal">\n	Employee Handbooks<o:p></o:p></p>\n<p class="MsoNormal">\n	HR Best Practices<o:p></o:p></p>\n<p class="MsoNormal">\n	AND MORE!<o:p></o:p></p>\n<p class="MsoNormal">\n	<o:p>&nbsp\;</o:p></p>\n<p class="MsoNormal">\n	Speakers include:<o:p></o:p></p>\n<p class="MsoNormal">\n	Matt Gordon\, Owner &amp\; Chef\, Urban Solace &amp\; Solace Encinitas<o:p></o:p></p>\n<p class="MsoNormal">\n	Linda Aguiler\, Labor Commissioner<o:p></o:p></p>\n<p class="MsoNormal">\n	Scott Gardner\, HR Executive\, Festivities Catering &amp\; Picnic People<o:p></o:p></p>\n<p class="MsoNormal">\n	Sharon Mehlman\, Immigration Attorney<o:p></o:p></p>\n<p class="MsoNormal">\n	AND MORE!<o:p></o:p></p>\n
LOCATION:Crowne Plaza Hotel Mission Valley 2270 Hotel Circle North San Diego\, CA 92108
UID:e.784.2880
SEQUENCE:3
DTSTAMP:20260421T210433Z
URL:https://chamber.sdbusinesschamber.com/events/details/restaurant-employment-law-update-05-22-2013-2880
END:VEVENT

END:VCALENDAR
