BEGIN:VCALENDAR
VERSION:2.0
PRODID:-//ChamberMaster//Event Calendar 2.0//EN
METHOD:PUBLISH
X-PUBLISHED-TTL:P3D
REFRESH-INTERVAL:P3D
CALSCALE:GREGORIAN
BEGIN:VEVENT
DTSTART:20121101T150000Z
DTEND:20121101T160000Z
X-MICROSOFT-CDO-ALLDAYEVENT:FALSE
SUMMARY:Resource Development Committee Meeting
DESCRIPTION:
X-ALT-DESC;FMTTYPE=text/html:
LOCATION:San Diego North Chamber of Commerce 10875 Rancho Bernardo Road Suite 104 San Diego CA 92127
UID:e.784.2522
SEQUENCE:3
DTSTAMP:20260422T062832Z
URL:https://chamber.sdbusinesschamber.com/events/details/resource-development-committee-meeting-11-01-2012-2522
END:VEVENT

END:VCALENDAR
