BEGIN:VCALENDAR
VERSION:2.0
PRODID:-//ChamberMaster//Event Calendar 2.0//EN
METHOD:PUBLISH
X-PUBLISHED-TTL:P3D
REFRESH-INTERVAL:P3D
CALSCALE:GREGORIAN
BEGIN:VEVENT
DTSTART:20090818T070000Z
DTEND:20090818T070000Z
X-MICROSOFT-CDO-ALLDAYEVENT:FALSE
SUMMARY:Regional Real Estate Summit
DESCRIPTION:Hear about current real estate trends\, statistics and an economic forecast from the National Association of REALTORS hosted by the San Diego Association of REALTORS. Luncheon costs $25 for SDAR members and $30 for non-members. A table of ten is available for $199. Speakers include Lawrence Yun\, NAR Chief Economist\; Dick Gaylord\, 2009 NAR Immediate Past President\; and Erik Weichelt\, 2009 SDAR President. You may sign up by contact the SDAR at 858.715.8000.
X-ALT-DESC;FMTTYPE=text/html:<DIV>Hear about current real estate trends\, statistics and an economic forecast from the National Association of REALTORS hosted by the San Diego Association of REALTORS. Luncheon costs $25 for SDAR members and $30 for non-members. A table of ten is available for $199. Speakers include Lawrence Yun\, NAR Chief Economist\; Dick Gaylord\, 2009 NAR Immediate Past President\; and Erik Weichelt\, 2009 SDAR President. You may sign up by contact the SDAR at 858.715.8000.</DIV>
LOCATION:DoubleTree Hotel Mission Valley
UID:e.784.886
SEQUENCE:3
DTSTAMP:20260424T154958Z
URL:https://chamber.sdbusinesschamber.com/events/details/regional-real-estate-summit-08-18-2009-886
END:VEVENT

END:VCALENDAR
