BEGIN:VCALENDAR
VERSION:2.0
PRODID:-//ChamberMaster//Event Calendar 2.0//EN
METHOD:PUBLISH
X-PUBLISHED-TTL:P3D
REFRESH-INTERVAL:P3D
CALSCALE:GREGORIAN
BEGIN:VEVENT
DTSTART:20101209T010000Z
DTEND:20101209T030000Z
X-MICROSOFT-CDO-ALLDAYEVENT:FALSE
SUMMARY:Regional Connect\, Network After 5
DESCRIPTION:Once a month\, join chamber members and successful business owners who gather  after work for Regional Connect\, networking after 5. Held at some of the North  County region's most popular venues\, our Regional Connect\, events provide you  with the opportunity to exchange business ideas\, meet qualified business  connections and generate new business leads. In addition to networking in an  innovative environment\, you can choose to sponsor a table and display your  products and services for valuable added exposure.
X-ALT-DESC;FMTTYPE=text/html:<p>Once a month\, join chamber members and successful business owners who gather  after work for Regional Connect\, <em>networking after 5</em>. Held at some of the North  County region's most popular venues\, our Regional Connect\, events provide you  with the opportunity to exchange business ideas\, meet qualified business  connections and generate new business leads. In addition to networking in an  innovative environment\, you can choose to sponsor a table and display your  products and services for valuable added exposure.</p>
LOCATION:Doubletree Golf Resort San Diego14455 Penasquitos DrSan Diego CA 92129
UID:e.784.1815
SEQUENCE:3
DTSTAMP:20260423T152351Z
URL:https://chamber.sdbusinesschamber.com/events/details/regional-connect-network-after-5-12-08-2010-1815
END:VEVENT

END:VCALENDAR
