BEGIN:VCALENDAR
VERSION:2.0
PRODID:-//ChamberMaster//Event Calendar 2.0//EN
METHOD:PUBLISH
X-PUBLISHED-TTL:P3D
REFRESH-INTERVAL:P3D
CALSCALE:GREGORIAN
BEGIN:VEVENT
DTSTART:20111110T010000Z
DTEND:20111110T030000Z
X-MICROSOFT-CDO-ALLDAYEVENT:FALSE
SUMMARY:Regional Connect Mixer
DESCRIPTION:Relationships are the foundation of business. With each new contact you make at an SDNCC mixer\, you will strengthen the core of your customer base. The monthly Regional Connect Mixer is a great opportunity for business professionals to exchange ideas\, make qualified business connections and generate new leads with over a hundred business leaders from around the region.\n\n	 \n\n	\n		Meet SDNCC Board Members Steven Anderson and Michael Scogin\n	\n		Welcome New Members\n	\n		Keynote presentation
X-ALT-DESC;FMTTYPE=text/html:<div>\n	<span style="font-size: 10pt">Relationships are the foundation of business. With each new contact you make at an SDNCC mixer\, you will strengthen the core of your customer base. The monthly Regional Connect Mixer is a great opportunity for business professionals to exchange ideas\, make qualified business connections and generate new leads with over a hundred business leaders from around the region.</span><br />\n	&nbsp\;</div>\n<ul>\n	<li>\n		Meet SDNCC Board Members Steven Anderson and Michael Scogin</li>\n	<li>\n		Welcome New Members</li>\n	<li>\n		Keynote presentation</li>\n</ul>\n<br />\n<br />\n
LOCATION:Courtyard by Marriott 11611 Bernardo Plaza Ct San Diego CA 92128 (Map)
UID:e.784.2304
SEQUENCE:3
DTSTAMP:20260423T001440Z
URL:https://chamber.sdbusinesschamber.com/events/details/regional-connect-mixer-11-09-2011-2304
END:VEVENT

END:VCALENDAR
