BEGIN:VCALENDAR
VERSION:2.0
PRODID:-//ChamberMaster//Event Calendar 2.0//EN
METHOD:PUBLISH
X-PUBLISHED-TTL:P3D
REFRESH-INTERVAL:P3D
CALSCALE:GREGORIAN
BEGIN:VEVENT
DTSTART:20120712T000000Z
DTEND:20120712T020000Z
X-MICROSOFT-CDO-ALLDAYEVENT:FALSE
SUMMARY:Regional Connect Mixer
DESCRIPTION:Once a month\, join chamber members and successful business owners who gather after work for Regional Connect\, networking after 5. Held at some of the North County region's most popular venues\, our Regional Connect\, events provide you with the opportunity to exchange business ideas\, meet qualified business connections and generate new business leads. In addition to networking in an innovative environment\, you can choose to sponsor a table and display your products and services for valuable added exposure.\n\n\n\nThis month's guest speaker in\, Ingrid Croce\, Restaurateur/Owner of Croce's Restaurant & Jazz Bar\, Visionary and Community Leader\, Pioneer of the Gaslamp Quarter and downtown San Diego\, Co- Administer of Jim Croce's Publishing\, President/Owner of Avalanche Records and Books and Time in a Bottle Publishing Inspirational and Motivational Speaker.
X-ALT-DESC;FMTTYPE=text/html:Once a month\, join chamber members and successful business owners who gather after work for Regional Connect\, <em>networking after 5</em>. Held at some of the North County region's most popular venues\, our Regional Connect\, events provide you with the opportunity to exchange business ideas\, meet qualified business connections and generate new business leads. In addition to networking in an innovative environment\, you can choose to sponsor a table and display your products and services for valuable added exposure.<br>\n<br>\nThis month's guest speaker in\, <strong>Ingrid Croce\,</strong> Restaurateur/Owner of Croce's Restaurant &amp\; Jazz Bar\, Visionary and Community Leader\, Pioneer of the Gaslamp Quarter and downtown San Diego\, Co- Administer of Jim Croce's Publishing\, President/Owner of Avalanche Records and Books and Time in a Bottle Publishing Inspirational and Motivational Speaker. 
LOCATION:Bernardo Winery 13330 Paseo del Verano Norte San Diego CA 92128
UID:e.784.2484
SEQUENCE:3
DTSTAMP:20260422T123721Z
URL:https://chamber.sdbusinesschamber.com/events/details/regional-connect-mixer-07-11-2012-2484
END:VEVENT

END:VCALENDAR
