BEGIN:VCALENDAR
VERSION:2.0
PRODID:-//ChamberMaster//Event Calendar 2.0//EN
METHOD:PUBLISH
X-PUBLISHED-TTL:P3D
REFRESH-INTERVAL:P3D
CALSCALE:GREGORIAN
BEGIN:VEVENT
DTSTART:20120614T000000Z
DTEND:20120614T020000Z
X-MICROSOFT-CDO-ALLDAYEVENT:FALSE
SUMMARY:Regional Connect Mixer
DESCRIPTION:Once a month\, join chamber members and successful business owners who gather after work for Regional Connect\, networking after 5. Held at some of the North County region's most popular venues\, our Regional Connect\, events provide you with the opportunity to exchange business ideas\, meet qualified business connections and generate new business leads. In addition to networking in an innovative environment\, you can choose to sponsor a table and display your products and services for valuable added exposure.\n\n\n\nThis month's speaker is Greg Koch\, CEO and C-Founder of Stone Brewing!
X-ALT-DESC;FMTTYPE=text/html:Once a month\, join chamber members and successful business owners who gather after work for Regional Connect\, <em>networking after 5</em>. Held at some of the North County region&#39\;s most popular venues\, our Regional Connect\, events provide you with the opportunity to exchange business ideas\, meet qualified business connections and generate new business leads. In addition to networking in an innovative environment\, you can choose to sponsor a table and display your products and services for valuable added exposure.<br />\n<br />\n<strong>This month&#39\;s speaker is <a href="http://www.stonebrew.com/staff/photos/gregkoch/greg.html">Greg Koch</a>\, CEO and C-Founder of Stone Brewing!</strong>
LOCATION:California Center for the Arts\, Escondido 340 North Escondido Blvd Escondido CA 92025
UID:e.784.2483
SEQUENCE:3
DTSTAMP:20260422T140448Z
URL:https://chamber.sdbusinesschamber.com/events/details/regional-connect-mixer-06-13-2012-2483
END:VEVENT

END:VCALENDAR
