BEGIN:VCALENDAR
VERSION:2.0
PRODID:-//ChamberMaster//Event Calendar 2.0//EN
METHOD:PUBLISH
X-PUBLISHED-TTL:P3D
REFRESH-INTERVAL:P3D
CALSCALE:GREGORIAN
BEGIN:VEVENT
DTSTART:20120510T000000Z
DTEND:20120510T020000Z
X-MICROSOFT-CDO-ALLDAYEVENT:FALSE
SUMMARY:Regional Connect Mixer
DESCRIPTION:Featuring Supersonic Pilots and Best Selling Authors\,\n\n	Bill and Colleen Hensley!\n\n	Applying the principles of flying supersonic jets to business and life.     \n\n	 \nOnce a month\, join chamber members and successful business owners who gather after work for Regional Connect\, networking after 5. Held at some of the North County region's most popular venues\, our Regional Connect\, events provide you with the opportunity to exchange business ideas\, meet qualified business connections and generate new business leads. In addition to networking in an innovative environment\, you can choose to sponsor a table and display your products and services for valuable added exposure.
X-ALT-DESC;FMTTYPE=text/html:<div style="text-align: center\;">\n	<strong>Featuring Supersonic Pilots and Best Selling Authors\,</strong></div>\n<div style="text-align: center\;">\n	<span><span _mce_style="font-family: Arial\,Helvetica\,sans-serif\;" style="font-family: Arial\,Helvetica\,sans-serif\;"><strong><span><a _mce_href="http://pilotleadership.com/about-us" _mce_shape="rect" _mce_style="color: #0000ff\; text-decoration: underline\;" href="http://pilotleadership.com/about-us" shape="rect" style="color: rgb(0\, 0\, 255) ! important\; text-decoration: underline ! important\;" target="_blank">Bill and Colleen Hensley</a></span>!</strong></span></span></div>\n<div _mce_style="text-align: center\;" style="text-align: center\;">\n	<span><span _mce_style="font-family: Arial\,Helvetica\,sans-serif\;" style="font-family: Arial\,Helvetica\,sans-serif\;"><strong><span><span>Applying the principles of flying </span><span>supersonic jets to business and life.&trade\;</span>&nbsp\; &nbsp\;</span> </strong></span></span><br />\n	&nbsp\;</div>\nOnce a month\, join chamber members and successful business owners who gather after work for Regional Connect\, <em>networking after 5</em>. Held at some of the North County region&#39\;s most popular venues\, our Regional Connect\, events provide you with the opportunity to exchange business ideas\, meet qualified business connections and generate new business leads. In addition to networking in an innovative environment\, you can choose to sponsor a table and display your products and services for valuable added exposure.<br />\n<br />\n
LOCATION:Alliant International University 10455 Pomerado Rd San Diego CA 92131
UID:e.784.2482
SEQUENCE:3
DTSTAMP:20260422T154206Z
URL:https://chamber.sdbusinesschamber.com/events/details/regional-connect-mixer-05-09-2012-2482
END:VEVENT

END:VCALENDAR
