BEGIN:VCALENDAR
VERSION:2.0
PRODID:-//ChamberMaster//Event Calendar 2.0//EN
METHOD:PUBLISH
X-PUBLISHED-TTL:P3D
REFRESH-INTERVAL:P3D
CALSCALE:GREGORIAN
BEGIN:VEVENT
DTSTART:20120315T000000Z
DTEND:20120315T020000Z
X-MICROSOFT-CDO-ALLDAYEVENT:FALSE
SUMMARY:Regional Connect Mixer
DESCRIPTION:Once a month\, join chamber members and successful business owners who gather after work for Regional Connect\, networking after 5. Held at some of the North County region's most popular venues\, our Regional Connect\, events provide you with the opportunity to exchange business ideas\, meet qualified business connections and generate new business leads. In addition to networking in an innovative environment\, you can choose to sponsor a table and display your products and services for valuable added exposure.\n\n\n\nMarch's Monthly Focus - Political Candidate Mixer - Meet all City of San Diego Mayoral Candidates
X-ALT-DESC;FMTTYPE=text/html:Once a month\, join chamber members and successful business owners who gather after work for Regional Connect\, <em>networking after 5</em>. Held at some of the North County region&#39\;s most popular venues\, our Regional Connect\, events provide you with the opportunity to exchange business ideas\, meet qualified business connections and generate new business leads. In addition to networking in an innovative environment\, you can choose to sponsor a table and display your products and services for valuable added exposure.<br />\n<br />\n<strong>March&#39\;s Monthly Focus - Political Candidate Mixer - Meet all City of San Diego Mayoral Candidates</strong>
LOCATION:San Diego Children's Discovery Museum 320 N. Broadway Escondido CA 92025
UID:e.784.2480
SEQUENCE:3
DTSTAMP:20260422T190154Z
URL:https://chamber.sdbusinesschamber.com/events/details/regional-connect-mixer-03-14-2012-2480
END:VEVENT

END:VCALENDAR
