BEGIN:VCALENDAR
VERSION:2.0
PRODID:-//ChamberMaster//Event Calendar 2.0//EN
METHOD:PUBLISH
X-PUBLISHED-TTL:P3D
REFRESH-INTERVAL:P3D
CALSCALE:GREGORIAN
BEGIN:VEVENT
DTSTART:20110210T013000Z
DTEND:20110210T030000Z
X-MICROSOFT-CDO-ALLDAYEVENT:FALSE
SUMMARY:Regional Connect Mixer
DESCRIPTION:Once a month\, join chamber members and successful business owners who gather after work for Regional Connect\, networking after 5. Held at some of the North County region's most popular venues\, our Regional Connect\, events provide you with the opportunity to exchange business ideas\, meet qualified business connections and generate new business leads. In addition to networking in an innovative environment\, you can choose to sponsor a table and display your products and services for valuable added exposure.\n\n\n\nFrom the South:\n\n \n\n         North on Interstate 15\n\n         Exit at Bernardo Center Drive\n\n         Turn left (heading west)\n\n         Turn right on West Bernardo Drive\n\n         Cross 2 lighted intersections\n\n         Turn right at the Main Gate\n\n \n\nFrom the North:\n\n \n\n         South on Interstate 15\n\n         Exit at Rancho Bernardo Road\n\n         Turn right (heading west)\n\n         Turn left on West Bernardo Drive\n\n         Cross 2 lighted intersections\n\n         Turn left at the Main Gate\n\n        \n\nThe Visitor Parking Area is to the right of the guard shack.  When that gets full\, guests are welcome to use the employee parking area.\n\n \n\nThe event will be held in the Cafeteria dining room (in the building directly in front of the main gate).  The Main Lobby closes at 4:30 pm  so the guests need to proceed directly to the event area.
X-ALT-DESC;FMTTYPE=text/html:Once a month\, join chamber members and successful business owners who gather after work for Regional Connect\, <em>networking after 5</em>. Held at some of the North County region&#39\;s most popular venues\, our Regional Connect\, events provide you with the opportunity to exchange business ideas\, meet qualified business connections and generate new business leads. In addition to networking in an innovative environment\, you can choose to sponsor a table and display your products and services for valuable added exposure.<br />\n<br />\nFrom the South:<br />\n&nbsp\;<br />\n&nbsp\;&nbsp\;&nbsp\;&nbsp\;&nbsp\;&nbsp\;&nbsp\;&nbsp\; <span style="color: rgb(31\, 73\, 125)\;">North</span> on Interstate 15<br />\n&nbsp\;&nbsp\;&nbsp\;&nbsp\;&nbsp\;&nbsp\;&nbsp\;&nbsp\; Exit at Bernardo Center Drive<br />\n&nbsp\;&nbsp\;&nbsp\;&nbsp\;&nbsp\;&nbsp\;&nbsp\;&nbsp\; Turn left (heading west)<br />\n&nbsp\;&nbsp\;&nbsp\;&nbsp\;&nbsp\;&nbsp\;&nbsp\;&nbsp\; Turn right on West Bernardo Drive<br />\n&nbsp\;&nbsp\;&nbsp\;&nbsp\;&nbsp\;&nbsp\;&nbsp\;&nbsp\; Cross 2 lighted intersections<br />\n&nbsp\;&nbsp\;&nbsp\;&nbsp\;&nbsp\;&nbsp\;&nbsp\;&nbsp\; Turn right at the Main Gate<br />\n&nbsp\;<br />\nFrom the North:<br />\n&nbsp\;<br />\n&nbsp\;&nbsp\;&nbsp\;&nbsp\;&nbsp\;&nbsp\;&nbsp\;&nbsp\; <span style="color: rgb(31\, 73\, 125)\;">South</span> on Interstate 15<br />\n&nbsp\;&nbsp\;&nbsp\;&nbsp\;&nbsp\;&nbsp\;&nbsp\;&nbsp\; Exit at Rancho Bernardo Road<br />\n&nbsp\;&nbsp\;&nbsp\;&nbsp\;&nbsp\;&nbsp\;&nbsp\;&nbsp\; Turn right (heading west)<br />\n&nbsp\;&nbsp\;&nbsp\;&nbsp\;&nbsp\;&nbsp\;&nbsp\;&nbsp\; Turn left on West Bernardo Drive<br />\n&nbsp\;&nbsp\;&nbsp\;&nbsp\;&nbsp\;&nbsp\;&nbsp\;&nbsp\; Cross 2 lighted intersections<br />\n&nbsp\;&nbsp\;&nbsp\;&nbsp\;&nbsp\;&nbsp\;&nbsp\;&nbsp\; Turn left at the Main Gate<br />\n&nbsp\;&nbsp\;&nbsp\;&nbsp\;&nbsp\;&nbsp\;&nbsp\;&nbsp\;<br />\nThe <em>Visitor Parking Area</em> is to the right of the guard shack. &nbsp\;When that gets full\, guests are welcome to use the employee parking area.<br />\n&nbsp\;<br />\nThe event will be held in the Cafeteria dining room (in the building directly in front of the main gate).&nbsp\; The Main Lobby closes at 4:30 pm&nbsp\; so the guests need to proceed directly to the event area.
LOCATION:Hewlett-Packard Company 16399 W Bernardo Dr San Diego CA 92127
UID:e.784.2091
SEQUENCE:3
DTSTAMP:20260423T124509Z
URL:https://chamber.sdbusinesschamber.com/events/details/regional-connect-mixer-02-09-2011-2091
END:VEVENT

END:VCALENDAR
