BEGIN:VCALENDAR
VERSION:2.0
PRODID:-//ChamberMaster//Event Calendar 2.0//EN
METHOD:PUBLISH
X-PUBLISHED-TTL:P3D
REFRESH-INTERVAL:P3D
CALSCALE:GREGORIAN
BEGIN:VEVENT
DTSTART:20100521T070000Z
DTEND:20100521T070000Z
X-MICROSOFT-CDO-ALLDAYEVENT:FALSE
SUMMARY:Red\, White & Blues Bash
DESCRIPTION:
X-ALT-DESC;FMTTYPE=text/html:
LOCATION:Bernardo Winery
UID:e.784.1005
SEQUENCE:3
DTSTAMP:20260424T012258Z
URL:https://chamber.sdbusinesschamber.com/events/details/red-white-blues-bash-05-21-2010-1005
END:VEVENT

END:VCALENDAR
