BEGIN:VCALENDAR
VERSION:2.0
PRODID:-//ChamberMaster//Event Calendar 2.0//EN
METHOD:PUBLISH
X-PUBLISHED-TTL:P3D
REFRESH-INTERVAL:P3D
CALSCALE:GREGORIAN
BEGIN:VEVENT
DTSTART:20210128T160000Z
DTEND:20210128T200000Z
X-MICROSOFT-CDO-ALLDAYEVENT:FALSE
SUMMARY:Re: Imagine Leadership Virtual Summit
DESCRIPTION:Revitalize yourself personally and professionally as a leader. Allow us to help you up your leadership game from the inside out during a time when the rules are continuously changing.\n\n\n\nQualifies for 5 HR (General) Continuing Education Credits\n\n\n\nWhat's Included:\n\n\n	January 27: Pre-Summit "Championing Diversity: CEO Straight Talk" Panel Discussion \n	January 28: Re:Imagine Leadership Summit Main Program\n	Summit Journal: The 7 Key Practices of a Transformative Leader\n	On-Demand Recording of the Panel Discussion and Keynotes
X-ALT-DESC;FMTTYPE=text/html:<p style="text-align:center"><br />\nRevitalize yourself personally and professionally as a leader. Allow us to help you up your leadership game from the inside out during a time when the rules are continuously changing.<br />\n<br />\nQualifies for 5 HR (General) Continuing Education Credits<br />\n<br />\n<strong>What&#39\;s Included:</strong></p>\n\n<ul>\n	<li>January 27: Pre-Summit &quot\;Championing Diversity: CEO Straight Talk&quot\; Panel Discussion&nbsp\;</li>\n	<li>January 28: Re:Imagine Leadership Summit Main Program</li>\n	<li>Summit Journal: The 7 Key Practices of&nbsp\;a Transformative Leader</li>\n	<li>On-Demand Recording of the Panel Discussion and Keynotes</li>\n</ul>\n
LOCATION:Online
UID:e.784.26960
SEQUENCE:3
DTSTAMP:20260425T154050Z
URL:https://chamber.sdbusinesschamber.com/events/details/re-imagine-leadership-virtual-summit-01-28-2021-26960
END:VEVENT

END:VCALENDAR
