BEGIN:VCALENDAR
VERSION:2.0
PRODID:-//ChamberMaster//Event Calendar 2.0//EN
METHOD:PUBLISH
X-PUBLISHED-TTL:P3D
REFRESH-INTERVAL:P3D
CALSCALE:GREGORIAN
BEGIN:VEVENT
DTSTART:20091101T070000Z
DTEND:20091101T070000Z
X-MICROSOFT-CDO-ALLDAYEVENT:FALSE
SUMMARY:RB Fall Festival at 4S Ranch 2009
DESCRIPTION:
X-ALT-DESC;FMTTYPE=text/html:
LOCATION:4S Ranch Parkway
UID:e.784.877
SEQUENCE:3
DTSTAMP:20260424T103302Z
URL:https://chamber.sdbusinesschamber.com/events/details/rb-fall-festival-at-4s-ranch-2009-11-01-2009-877
END:VEVENT

END:VCALENDAR
