BEGIN:VCALENDAR
VERSION:2.0
PRODID:-//ChamberMaster//Event Calendar 2.0//EN
METHOD:PUBLISH
X-PUBLISHED-TTL:P3D
REFRESH-INTERVAL:P3D
CALSCALE:GREGORIAN
BEGIN:VEVENT
DTSTART;VALUE=DATE:20091013
DTEND;VALUE=DATE:20091014
TRANSP:TRANSPARENT
X-MICROSOFT-CDO-ALLDAYEVENT:TRUE
SUMMARY:RB Courtyard Office Complex Celebrates 15th Anniversary!
DESCRIPTION:RB Courtyard Professional Office Complex is proud to celebrate 15 years of local\, family ownership!We have unique leasing opportunities currently available! To tour our beautiful facility\, please call Joanne at 858.673.5687! We are proud to be a landmark property in the Community and look forward to many more years!
X-ALT-DESC;FMTTYPE=text/html:RB Courtyard Professional Office Complex is proud to celebrate 15 years of local\, family ownership!We have unique leasing opportunities currently available! To tour our beautiful facility\, please call Joanne at 858.673.5687! We are proud to be a landmark property in the Community and look forward to many more years!
LOCATION:Rancho Bernardo Courtyard
UID:e.784.-168
SEQUENCE:3
DTSTAMP:20260424T115356Z
URL:https://chamber.sdbusinesschamber.com/events/details/rb-courtyard-office-complex-celebrates-15th-anniversary-10-13-2009
END:VEVENT

END:VCALENDAR
