BEGIN:VCALENDAR
VERSION:2.0
PRODID:-//ChamberMaster//Event Calendar 2.0//EN
METHOD:PUBLISH
X-PUBLISHED-TTL:P3D
REFRESH-INTERVAL:P3D
CALSCALE:GREGORIAN
BEGIN:VEVENT
DTSTART:20120603T170000Z
DTEND:20120603T230000Z
X-MICROSOFT-CDO-ALLDAYEVENT:FALSE
SUMMARY:RB Alive Expo 2012
DESCRIPTION:Come and help us celebrate the San Diego North Chamber's 24th annual RB Alive! Expo. There will be a full day of entertainment and enjoyment with over 300 booths. Health exhibitors will provide screenings and information regarding their facilities. Visitors can browse the arts and crafts booths\, get information from regional and local businesses\, service clubs and religious organizations and partake in tasty treats and meals from food vendors.\n\n	Several special interest areas are in store for the 55\,000 expected visitors. The Kids Zone will provide lots of rides\, games and special carnival foods. The Art Center will feature performing arts\, music\, and visual arts for all ages while the Cultural Center will have historical reenactments and local organizations will share their art\, culture\, history and/or handiwork. And everyone will want to stop by to view the Classic Car Show.
X-ALT-DESC;FMTTYPE=text/html:<p>\n	Come and help us celebrate the San Diego North Chamber&#39\;s 24th annual RB Alive! Expo. There will be a full day of entertainment and enjoyment with over 300 booths. Health exhibitors will provide screenings and information regarding their facilities. Visitors can browse the arts and crafts booths\, get information from regional and local businesses\, service clubs and religious organizations and partake in tasty treats and meals from food vendors.</p>\n<p>\n	Several special interest areas are in store for the 55\,000 expected visitors. The Kids Zone will provide lots of rides\, games and special carnival foods. The Art Center will feature performing arts\, music\, and visual arts for all ages while the Cultural Center will have historical reenactments and local organizations will share their art\, culture\, history and/or handiwork. And everyone will want to stop by to view the Classic Car Show.</p>\n
LOCATION:Bernardo Center Drive between Lomica Drive and Bernardo Plaza Court
UID:e.784.2499
SEQUENCE:3
DTSTAMP:20260422T140444Z
URL:https://chamber.sdbusinesschamber.com/events/details/rb-alive-expo-2012-06-03-2012-2499
END:VEVENT

END:VCALENDAR
