BEGIN:VCALENDAR
VERSION:2.0
PRODID:-//ChamberMaster//Event Calendar 2.0//EN
METHOD:PUBLISH
X-PUBLISHED-TTL:P3D
REFRESH-INTERVAL:P3D
CALSCALE:GREGORIAN
BEGIN:VEVENT
DTSTART:20110605T170000Z
DTEND:20110605T230000Z
X-MICROSOFT-CDO-ALLDAYEVENT:FALSE
SUMMARY:RB Alive Expo 2011
DESCRIPTION:Come and help us celebrate the San Diego North Chamber's 23rd annual RB Alive! Expo. There will be a full day of entertainment and enjoyment with over 300 booths. Health exhibitors will provide screenings and information regarding their facilities. Visitors can browse the arts and crafts booths\, get information from regional and local businesses\, service clubs and religious organizations and partake in tasty treats and meals from food vendors.\n\n	Several special interest areas are in store for the 55\,000 expected visitors. The Kids Zone will provide lots of rides\, games and special carnival foods. The Art Center will feature performing arts\, music\, and visual arts for all ages while the Cultural Center will have historical reenactments and local organizations will share their art\, culture\, history and/or handiwork. And.everyone will want to stop by to view the Classic Car Show.\n\n	Entertainment Schedule\n\n	 \n\n	FOOD COURT STAGE:\n\n	 \n\n	10:00-Noon     RB COMMUNITY BAND\n\n	Noon-2:00       EXIT ONLY\n\n	2:00-4:00         TOM BOYER   SOLO ACOUSTIC GUITARIST\n\n	 \n\n	 \n\n	BERNARDO CENTER DRIVE STAGE:\n\n	 \n\n	10:00 Welcome:   Presentation of Colors by local Boy Scout Troops\,  National Anthem by Gwyn Sanborn\, President of the West Coast Country Music Ass. & Host of "Country at the Merc" in Temecula.\n\n	 \n\n	10:10   SWIFT KICK MARTIAL ARTS\n\n	10:30   POWAY GYMNASTICS\n\n	11:00   ROSE RITCHIE ACADEMY OF IRISH DANCE\n\n	11:30   KEALOHILANI DANCE\n\n	12:00   THE BREWER BOYS\n\n	12:45   WELCOME BY SDNCC CEO\, DEBRA ROSEN AND INTRODUCTION OF FESTIVAL SPONSORS AND DIGNITARIES.\n\n	 \n\n	1:00     GYMINNY KIDS GYMNASTICS\n\n	1:30     RB KARATE CENTER\n\n	2:00     STEP BY STEP DANCE\n\n	2:45     ACADEMY OF DANCE ARTS\n\n	3:15     THE CLASSIC JAZZ TRIO
X-ALT-DESC;FMTTYPE=text/html:<p>\n	Come and help us celebrate the San Diego North Chamber&#39\;s 23rd annual RB Alive! Expo. There will be a full day of entertainment and enjoyment with over 300 booths. Health exhibitors will provide screenings and information regarding their facilities. Visitors can browse the arts and crafts booths\, get information from regional and local businesses\, service clubs and religious organizations and partake in tasty treats and meals from food vendors.</p>\n<p>\n	Several special interest areas are in store for the 55\,000 expected visitors. The Kids Zone will provide lots of rides\, games and special carnival foods. The Art Center will feature performing arts\, music\, and visual arts for all ages while the Cultural Center will have historical reenactments and local organizations will share their art\, culture\, history and/or handiwork. And.everyone will want to stop by to view the Classic Car Show.</p>\n<h3>\n	Entertainment Schedule</h3>\n<p>\n	&nbsp\;</p>\n<div>\n	FOOD COURT STAGE:</div>\n<p>\n	&nbsp\;<br />\n	10:00-Noon &nbsp\;&nbsp\;&nbsp\; RB COMMUNITY BAND<br />\n	Noon-2:00 &nbsp\;&nbsp\;&nbsp\;&nbsp\;&nbsp\; EXIT ONLY<br />\n	2:00-4:00&nbsp\; &nbsp\;&nbsp\;&nbsp\;&nbsp\;&nbsp\;&nbsp\; TOM BOYER &ndash\; SOLO ACOUSTIC GUITARIST<br />\n	&nbsp\;<br />\n	&nbsp\;<br />\n	BERNARDO CENTER DRIVE STAGE:<br />\n	&nbsp\;<br />\n	10:00 Welcome:&nbsp\; &nbsp\;Presentation of Colors by local Boy Scout Troops\, &nbsp\;National Anthem by Gwyn Sanborn\, President of the West Coast Country Music Ass. &amp\; Host of &ldquo\;Country at the Merc&rdquo\; in Temecula.<br />\n	&nbsp\;<br />\n	10:10 &nbsp\; SWIFT KICK MARTIAL ARTS<br />\n	10:30 &nbsp\; POWAY GYMNASTICS<br />\n	11:00 &nbsp\; ROSE RITCHIE ACADEMY OF IRISH DANCE<br />\n	11:30 &nbsp\; KEALOHILANI DANCE<br />\n	12:00 &nbsp\; THE BREWER BOYS<br />\n	12:45 &nbsp\; WELCOME BY SDNCC CEO\, DEBRA ROSEN AND INTRODUCTION OF FESTIVAL SPONSORS AND DIGNITARIES.<br />\n	&nbsp\;<br />\n	1:00&nbsp\; &nbsp\;&nbsp\; GYMINNY KIDS GYMNASTICS<br />\n	1:30 &nbsp\;&nbsp\;&nbsp\; RB KARATE CENTER<br />\n	2:00 &nbsp\;&nbsp\;&nbsp\; STEP BY STEP DANCE<br />\n	2:45&nbsp\; &nbsp\;&nbsp\; ACADEMY OF DANCE ARTS<br />\n	3:15&nbsp\; &nbsp\;&nbsp\; THE CLASSIC JAZZ TRIO</p>\n
LOCATION:Bernardo Center Drive between Lomica Drive and Bernardo Plaza Court
UID:e.784.2258
SEQUENCE:3
DTSTAMP:20260423T070302Z
URL:https://chamber.sdbusinesschamber.com/events/details/rb-alive-expo-2011-06-05-2011-2258
END:VEVENT

END:VCALENDAR
