BEGIN:VCALENDAR
VERSION:2.0
PRODID:-//ChamberMaster//Event Calendar 2.0//EN
METHOD:PUBLISH
X-PUBLISHED-TTL:P3D
REFRESH-INTERVAL:P3D
CALSCALE:GREGORIAN
BEGIN:VEVENT
DTSTART:20100606T070000Z
DTEND:20100606T070000Z
X-MICROSOFT-CDO-ALLDAYEVENT:FALSE
SUMMARY:RB Alive Expo 2010
DESCRIPTION:Online registration is not available for this event. Click here for futher information.
X-ALT-DESC;FMTTYPE=text/html:<DIV>Online registration is not available for this event. <A href="http://www.sdncc.com/events/RB_Alive_Expo/">Click here</A> for futher information.</DIV>
LOCATION:Bernardo Center Drive
UID:e.784.868
SEQUENCE:3
DTSTAMP:20260424T002501Z
URL:https://chamber.sdbusinesschamber.com/events/details/rb-alive-expo-2010-06-06-2010-868
END:VEVENT

END:VCALENDAR
