BEGIN:VCALENDAR
VERSION:2.0
PRODID:-//ChamberMaster//Event Calendar 2.0//EN
METHOD:PUBLISH
X-PUBLISHED-TTL:P3D
REFRESH-INTERVAL:P3D
CALSCALE:GREGORIAN
BEGIN:VEVENT
DTSTART:20110227T040000Z
DTEND:20110227T060000Z
X-MICROSOFT-CDO-ALLDAYEVENT:FALSE
SUMMARY:Rave On: A Tribute to the Music of Buddy Holly
DESCRIPTION:Do you still believe in Rock'n'Roll? Rave On is a high-energy concert extravaganza featuring America's premiere Buddy Holly interpreter\, Billy McGuigan backed by the rocking six-piece Rave On Band.  You will experience all the thrills of a Buddy Holly concert re-imagined and hear such Holly hits as "Peggy Sue\," "Raining in My Heart\," "It's So Easy\," "That'll Be the Day\," "True Love Ways\," "Oh Boy" and of course\, "Rave On."  In a unique twist\, Billy as "Buddy" celebrates the birth of an era and pays homage to his fellow rockers Jerry Lee Lewis\, Elvis Presley\, Chuck Berry\, Ritchie Valens and The Big Bopper.
X-ALT-DESC;FMTTYPE=text/html:<div>Do you still believe in Rock'n'Roll? Rave On is a high-energy concert extravaganza featuring America&rsquo\;s premiere Buddy Holly interpreter\, Billy McGuigan backed by the rocking six-piece Rave On Band.  You will experience all the thrills of a Buddy Holly concert re-imagined and hear such Holly hits as &quot\;Peggy Sue\,&quot\; &quot\;Raining in My Heart\,&quot\; &quot\;It's So Easy\,&quot\; &quot\;That'll Be the Day\,&quot\; &quot\;True Love Ways\,&quot\; &quot\;Oh Boy&quot\; and of course\, &quot\;Rave On.&quot\;  In a unique twist\, Billy as &quot\;Buddy&quot\; celebrates the birth of an era and pays homage to his fellow rockers Jerry Lee Lewis\, Elvis Presley\, Chuck Berry\, Ritchie Valens and The Big Bopper.</div>
LOCATION:Poway Center for the Performing Arts
UID:e.784.1774
SEQUENCE:3
DTSTAMP:20260423T125032Z
URL:https://chamber.sdbusinesschamber.com/events/details/rave-on-a-tribute-to-the-music-of-buddy-holly-02-26-2011-1774
END:VEVENT

END:VCALENDAR
