BEGIN:VCALENDAR
VERSION:2.0
PRODID:-//ChamberMaster//Event Calendar 2.0//EN
METHOD:PUBLISH
X-PUBLISHED-TTL:P3D
REFRESH-INTERVAL:P3D
CALSCALE:GREGORIAN
BEGIN:VEVENT
DTSTART:20131115T190000Z
DTEND:20131115T220000Z
X-MICROSOFT-CDO-ALLDAYEVENT:FALSE
SUMMARY:Rancho Bernardo Republican Women Monthly Meeting
DESCRIPTION:NOVEMBER MEETINGHow Did We Get Here?The History of National Federation of Republican WomenShirleyKaltenbornSan Diego County Federation of Republican Women (SDCFRW)Since 1982\, Shirley Kaltenborn has been a dedicated and active member of the Republican Women Federated in numerous capacities. She is past president of the Clairemont RWF\, San Diego County Federation and the Southern Di- vision. She currently serves as Parliamentarian of SDCFRW and Treasurer for Clairemont RWF.Shirley will share the history of the National Federation of Republian Women (NFRW)\, which was founded in 1938 and has grown into a national grassroots organization with thousands of members in clubs in 49 states\, Puerto Rico and the District of Columbia.She will also swear in our newly elected officers for the 2013-15 RBRWF Board of Directors.This is the last general meeting of the year\, so we encourage everyone to attend. We will be recognizing past presidents and long-time mem- bership anniversaries\, too!
X-ALT-DESC;FMTTYPE=text/html:NOVEMBER MEETINGHow Did We Get Here?The History of National Federation of Republican WomenShirleyKaltenbornSan Diego County Federation of Republican Women (SDCFRW)Since 1982\, Shirley Kaltenborn has been a dedicated and active member of the Republican Women Federated in numerous capacities. She is past president of the Clairemont RWF\, San Diego County Federation and the Southern Di- vision. She currently serves as Parliamentarian of SDCFRW and Treasurer for Clairemont RWF.Shirley will share the history of the National Federation of Republian Women (NFRW)\, which was founded in 1938 and has grown into a national grassroots organization with thousands of members in clubs in 49 states\, Puerto Rico and the District of Columbia.She will also swear in our newly elected officers for the 2013-15 RBRWF Board of Directors.This is the last general meeting of the year\, so we encourage everyone to attend. We will be recognizing past presidents and long-time mem- bership anniversaries\, too!
LOCATION:StoneRidge Country Club 17166 Stoneridge Country Club Lane\, Poway\, CA 92064
UID:e.784.2991
SEQUENCE:3
DTSTAMP:20260421T113647Z
URL:https://chamber.sdbusinesschamber.com/events/details/rancho-bernardo-republican-women-monthly-meeting-11-15-2013-2991
END:VEVENT

END:VCALENDAR
