BEGIN:VCALENDAR
VERSION:2.0
PRODID:-//ChamberMaster//Event Calendar 2.0//EN
METHOD:PUBLISH
X-PUBLISHED-TTL:P3D
REFRESH-INTERVAL:P3D
CALSCALE:GREGORIAN
BEGIN:VEVENT
DTSTART:20130315T180000Z
DTEND:20130315T210000Z
X-MICROSOFT-CDO-ALLDAYEVENT:FALSE
SUMMARY:Rancho Bernardo Republican Women Federated Luncheon Meeting
DESCRIPTION:Rancho Bernardo Republican Women Federated starts at 11 A.M. with social time then progress to the meeting at 11:45 A.M.\, recess for lunch\, and resume with guest speaker\, Francis Barraza\, Executive Director of the San Diego Republican Party. Ms. Barraza is a native of San Diego with over a decade of political experience. She has worked on multiple campaigns throughout California at all levels. During 2011 and 2012 Ms. Barraza served as the Finance Director for the Republican Party of San Diego County.\nThe ladies support giving books to the local libraries\, support the military families\, voter registration to name a few.\n\nRSVP to Laura at 858-673-1409 by noon March 12\, 2013. Please let us know if you need to cancel.  Lunch is $23 for members and $25 for non members.\n\nNew conservative members are welcomed.
X-ALT-DESC;FMTTYPE=text/html:<p>\n	Rancho Bernardo Republican Women Federated starts at 11 A.M. with social time then progress to the meeting at 11:45 A.M.\, recess for lunch\, and resume with guest speaker\, Francis Barraza\, Executive Director of the San Diego Republican Party. Ms. Barraza is a native of San Diego with over a decade of political experience. She has worked on multiple campaigns throughout California at all levels. During 2011 and 2012 Ms. Barraza served as the Finance Director for the Republican Party of San Diego County.</p>\nThe ladies support giving books to the local libraries\, support the military families\, voter registration to name a few.<br />\nRSVP to Laura at 858-673-1409 by noon March 12\, 2013. Please let us know if you need to cancel. &nbsp\;Lunch is $23 for members and $25 for non members.<br />\nNew conservative members are welcomed. &nbsp\;&nbsp\;
LOCATION:StoneRidge Country Club\; 17166 Stoneridge Country Club Lane\; Poway\, CA 92064
UID:e.784.2845
SEQUENCE:3
DTSTAMP:20260422T002924Z
URL:https://chamber.sdbusinesschamber.com/events/details/rancho-bernardo-republican-women-federated-luncheon-meeting-03-15-2013-2845
END:VEVENT

END:VCALENDAR
