BEGIN:VCALENDAR
VERSION:2.0
PRODID:-//ChamberMaster//Event Calendar 2.0//EN
METHOD:PUBLISH
X-PUBLISHED-TTL:P3D
REFRESH-INTERVAL:P3D
CALSCALE:GREGORIAN
BEGIN:VEVENT
DTSTART:20131019T220000Z
DTEND:20131020T020000Z
X-MICROSOFT-CDO-ALLDAYEVENT:FALSE
SUMMARY:Rancho BEERnardo Festival
DESCRIPTION:It's time for the Second Annual Rancho BEERnardo Festival.  On October 19th\, from 3-7 pm\, the RB Sunrise Rotary Club is hosting our second annual beer tasting event dedicated specifically to helping area non-profits raise money.  This local event guarantees an evening of fun\, pleasure and good taste as participants will get to enjoy flights of TEN TASTINGS from ten local breweries and wineries\, with the focus of the event raising funds for the Rancho Bernardo Sunrise Rotary Club to support these four local organizations: Ed Brown Senior Center  Team Red White & Blue   PoVa Therapeutic Riding Center  Oasis Haven  The Annual Rancho BEERnardo Festival is the one event of 2013 you absolutely Don't Want To Miss\, and participation is limited to the first 300 ticket holders.  Breweries include:  Manzanita\, Karl Strauss\, Lightning\, Urge\, Lost Abbey\, Ironfire\, Stone and Woof and Rose Winery with more being added.
X-ALT-DESC;FMTTYPE=text/html:It&#39\;s time for the Second Annual Rancho BEERnardo Festival. &nbsp\;On October 19th\, from 3-7 pm\, the RB Sunrise Rotary Club is hosting our second annual beer tasting event dedicated specifically to helping area non-profits raise money.&nbsp\; This local event guarantees an evening of fun\, pleasure and good taste as participants will get to enjoy flights of TEN TASTINGS from ten local breweries and wineries\, with the focus of the event raising funds for the Rancho Bernardo Sunrise Rotary Club to support these four local organizations: Ed Brown Senior Center&nbsp\; Team Red White &amp\; Blue &nbsp\; PoVa Therapeutic Riding Center&nbsp\; Oasis Haven&nbsp\; The Annual Rancho BEERnardo Festival is the one event of 2013 you absolutely Don&#39\;t Want To Miss\, and participation is limited to the first 300 ticket holders.&nbsp\; Breweries include: &nbsp\;Manzanita\, Karl Strauss\, Lightning\, Urge\, Lost Abbey\, Ironfire\, Stone and Woof and Rose Winery with more being added.&nbsp\;
LOCATION:Rancho Bernardo Courtyard A Professional Office Complex 16935 West Bernardo Drive San Diego\, CA 92127
UID:e.784.2969
SEQUENCE:3
DTSTAMP:20260421T130101Z
URL:https://chamber.sdbusinesschamber.com/events/details/rancho-beernardo-festival-10-19-2013-2969
END:VEVENT

END:VCALENDAR
